BEGIN:VCALENDAR
VERSION:2.0
PRODID:-//Division of Gastroenterology//NONSGML Events//EN
CALSCALE:GREGORIAN
X-ORIGINAL-URL:https://gastro.wustl.edu/events/
X-WR-CALDESC:Division of Gastroenterology - Events
BEGIN:VEVENT
UID:20241217T2213Z-1734473597.773-EO-10972-1@10.24.106.144
STATUS:CONFIRMED
DTSTAMP:20260419T193909Z
CREATED:20241217T221306Z
LAST-MODIFIED:20241217T221306Z
DTSTART;TZID=America/Chicago:20241223T070000
DTEND;TZID=America/Chicago:20250103T170000
SUMMARY: Winter Break
X-ALT-DESC;FMTTYPE=text/html: 
ORGANIZER;CN="Leslie":MAILTO:larnold@wustl.edu
URL;VALUE=URI:https://gastro.wustl.edu/events/event/winter-break/
END:VEVENT
BEGIN:VTIMEZONE
TZID:America/Chicago
BEGIN:STANDARD
TZOFFSETFROM:-0500
TZOFFSETTO:-0600
DTSTART:20241103T070000
TZNAME:CST
END:STANDARD
END:VTIMEZONE
END:VCALENDAR
