BEGIN:VCALENDAR
VERSION:2.0
PRODID:-//Division of Gastroenterology//NONSGML Events//EN
CALSCALE:GREGORIAN
X-ORIGINAL-URL:https://gastro.wustl.edu/events/
X-WR-CALDESC:Division of Gastroenterology - Events
BEGIN:VEVENT
UID:20181009T1423Z-1539095037.1477-EO-4644-1@172.20.65.30
STATUS:CONFIRMED
DTSTAMP:20260425T145535Z
CREATED:20181009T140904Z
LAST-MODIFIED:20181009T140904Z
DTSTART;TZID=America/Chicago:20181128T073000
DTEND;TZID=America/Chicago:20181128T083000
SUMMARY: Teaching Conference: Osama Altayar\, MD
DESCRIPTION: “Meta-Analysis“ Speaker: Osama Altayar\, MD GI Fellows
X-ALT-DESC;FMTTYPE=text/html: <h2 style="text-align: center\;">"<em>Meta-An
 alysis</em>"</h2><h2 style="text-align: center\;">Speaker: Osama Altayar\, 
 MD</h2><h4 style="text-align: center\;">GI Fellows</h4>
CATEGORIES:Teaching Conference
LOCATION:Clouse Conference Room
GEO:38.621247;-90.252616
ORGANIZER;CN="Scott":MAILTO:bosso.scott@wustl.edu
URL;VALUE=URI:https://gastro.wustl.edu/events/event/teaching-conference-osa
 ma-altayar-md/
END:VEVENT
BEGIN:VTIMEZONE
TZID:America/Chicago
BEGIN:STANDARD
TZOFFSETFROM:-0500
TZOFFSETTO:-0600
DTSTART:20181104T070000
TZNAME:CST
END:STANDARD
END:VTIMEZONE
END:VCALENDAR
