BEGIN:VCALENDAR
VERSION:2.0
PRODID:-//Division of Gastroenterology//NONSGML Events//EN
CALSCALE:GREGORIAN
X-ORIGINAL-URL:https://gastro.wustl.edu/events/
X-WR-CALDESC:Division of Gastroenterology - Events
BEGIN:VEVENT
UID:20190422T1635Z-1555950947.7296-EO-5301-1@172.23.128.19
STATUS:CONFIRMED
DTSTAMP:20260420T154144Z
CREATED:20190422T161659Z
LAST-MODIFIED:20190422T162552Z
DTSTART;TZID=America/Chicago:20190501T073000
DTEND;TZID=America/Chicago:20190501T083000
SUMMARY: Teaching Conference: Jose Saenz\, MD\, PhD
DESCRIPTION: “Management of Helicobacter Pylori and Other Gastric Pre-Neopl
 astic Lesions“ Speaker: Jose Saenz\, MD\, PhD Instructor of Medicine
X-ALT-DESC;FMTTYPE=text/html: <h2 style="text-align: center\;">"<em>Managem
 ent of Helicobacter Pylori and Other Gastric Pre-Neoplastic Lesions</em>"</
 h2><h2 style="text-align: center\;">Speaker: Jose Saenz\, MD\, PhD</h2><h4 
 style="text-align: center\;">Instructor of Medicine</h4>
CATEGORIES:Teaching Conference
LOCATION:Clouse Conference Room
GEO:38.621247;-90.252616
ORGANIZER;CN="Scott":MAILTO:bosso.scott@wustl.edu
URL;VALUE=URI:https://gastro.wustl.edu/events/event/teaching-conference-jos
 e-saenz-md-phd/
END:VEVENT
BEGIN:VTIMEZONE
TZID:America/Chicago
BEGIN:DAYLIGHT
TZOFFSETFROM:-0600
TZOFFSETTO:-0500
DTSTART:20190310T080000
TZNAME:CDT
END:DAYLIGHT
END:VTIMEZONE
END:VCALENDAR
