BEGIN:VCALENDAR
VERSION:2.0
PRODID:-//Division of Gastroenterology//NONSGML Events//EN
CALSCALE:GREGORIAN
X-ORIGINAL-URL:https://gastro.wustl.edu/events/
X-WR-CALDESC:Division of Gastroenterology - Events
BEGIN:VEVENT
UID:20190129T1458Z-1548773907.4675-EO-5055-1@172.23.128.19
STATUS:CONFIRMED
DTSTAMP:20260421T235559Z
CREATED:20190129T145605Z
LAST-MODIFIED:20190129T145605Z
DTSTART;TZID=America/Chicago:20190130T073000
DTEND;TZID=America/Chicago:20190130T083000
SUMMARY: Teaching Conference: Cheryl Richards\, PhD
DESCRIPTION: “Hypnosis\, Guided Imagery\, & Diaphragmatic Breathing“ Speake
 r: Cheryl Richards\, PhD Assistant Professor of Medicine and Psychiatry
X-ALT-DESC;FMTTYPE=text/html: <h2 style="text-align: center\;">"<em>Hypnosi
 s\, Guided Imagery\, & Diaphragmatic Breathing</em>"</h2><h2 style="text-al
 ign: center\;">Speaker: Cheryl Richards\, PhD</h2><h4 style="text-align: ce
 nter\;">Assistant Professor of Medicine and Psychiatry</h4>
CATEGORIES:Teaching Conference
LOCATION:Clouse Conference Room
GEO:38.621247;-90.252616
ORGANIZER;CN="Scott":MAILTO:bosso.scott@wustl.edu
URL;VALUE=URI:https://gastro.wustl.edu/events/event/teaching-conference-che
 ryl-richards-phd/
END:VEVENT
BEGIN:VTIMEZONE
TZID:America/Chicago
BEGIN:STANDARD
TZOFFSETFROM:-0500
TZOFFSETTO:-0600
DTSTART:20181104T070000
TZNAME:CST
END:STANDARD
END:VTIMEZONE
END:VCALENDAR
