BEGIN:VCALENDAR
VERSION:2.0
PRODID:-//Division of Gastroenterology//NONSGML Events//EN
CALSCALE:GREGORIAN
X-ORIGINAL-URL:https://gastro.wustl.edu/events/
X-WR-CALDESC:Division of Gastroenterology - Events
BEGIN:VEVENT
UID:20210129T2011Z-1611951114.0058-EO-6553-1@172.23.128.18
STATUS:CONFIRMED
DTSTAMP:20260423T110255Z
CREATED:20210129T200624Z
LAST-MODIFIED:20210129T200624Z
DTSTART;TZID=America/Chicago:20210210T070000
DTEND;TZID=America/Chicago:20210210T080000
SUMMARY: Teaching Conference: Cheryl Richards\, PhD
DESCRIPTION: “Psychological interventions in FGID“ Speaker: Cheryl Richards
 \, PhD Assistant Professor of Medicine and Psychiatry Please Contact Beth B
 uschard-Steiger for Zoom Details
X-ALT-DESC;FMTTYPE=text/html: <h2 style="text-align: center\;">"<em>Psychol
 ogical interventions in FGID</em>"</h2><h2 style="text-align: center\;">Spe
 aker: Cheryl Richards\, PhD</h2><h4 style="text-align: center\;">Assistant 
 Professor of Medicine and Psychiatry</h4><h4 style="text-align: center\;">P
 lease Contact Beth Buschard-Steiger for Zoom Details</h4>
CATEGORIES:Teaching Conference
LOCATION:Zoom
GEO:38.635144;-90.262929
ORGANIZER;CN="Scott":MAILTO:bosso.scott@wustl.edu
URL;VALUE=URI:https://gastro.wustl.edu/events/event/teaching-conference-che
 ryl-richards-phd-2/
END:VEVENT
BEGIN:VTIMEZONE
TZID:America/Chicago
BEGIN:STANDARD
TZOFFSETFROM:-0500
TZOFFSETTO:-0600
DTSTART:20201101T070000
TZNAME:CST
END:STANDARD
END:VTIMEZONE
END:VCALENDAR
