BEGIN:VCALENDAR
VERSION:2.0
PRODID:-//Division of Gastroenterology//NONSGML Events//EN
CALSCALE:GREGORIAN
X-ORIGINAL-URL:https://gastro.wustl.edu/events/
X-WR-CALDESC:Division of Gastroenterology - Events
BEGIN:VEVENT
UID:20250311T1547Z-1741708037.4579-EO-11130-1@10.73.10.131
STATUS:CONFIRMED
DTSTAMP:20260423T002323Z
CREATED:20250311T154428Z
LAST-MODIFIED:20250311T154428Z
DTSTART;TZID=America/Chicago:20250317T070000
DTEND;TZID=America/Chicago:20250321T170000
SUMMARY: Spring Break – no events
X-ALT-DESC;FMTTYPE=text/html: 
ORGANIZER;CN="Leslie":MAILTO:larnold@wustl.edu
URL;VALUE=URI:https://gastro.wustl.edu/events/event/spring-break-no-events/
END:VEVENT
BEGIN:VTIMEZONE
TZID:America/Chicago
BEGIN:DAYLIGHT
TZOFFSETFROM:-0600
TZOFFSETTO:-0500
DTSTART:20250309T080000
TZNAME:CDT
END:DAYLIGHT
END:VTIMEZONE
END:VCALENDAR
