BEGIN:VCALENDAR
VERSION:2.0
PRODID:-//Division of Gastroenterology//NONSGML Events//EN
CALSCALE:GREGORIAN
X-ORIGINAL-URL:https://gastro.wustl.edu/events/
X-WR-CALDESC:Division of Gastroenterology - Events
BEGIN:VEVENT
UID:20240606T1324Z-1717680271.8408-EO-10511-1@172.23.128.18
STATUS:CONFIRMED
DTSTAMP:20260422T091634Z
CREATED:20240606T131608Z
LAST-MODIFIED:20240606T131643Z
DTSTART;TZID=America/Chicago:20240612T070000
DTEND;TZID=America/Chicago:20240612T080000
SUMMARY: Research Club
DESCRIPTION: Fellow Research Update Eric Prado\, MD Matthew Schroeder\, MD 
 First Year Fellows   Please Contact Beth Buschard-Steiger (bbuscha@wustl.ed
 u) for Zoom Details
X-ALT-DESC;FMTTYPE=text/html: <h4 style="text-align: center\;">Fellow Resea
 rch Update</h4><h5 style="text-align: center\;">Eric Prado\, MD<br />Matthe
 w Schroeder\, MD</h5><h5 style="text-align: center\;">First Year Fellows</h
 5><p> </p><p style="text-align: center\;">Please Contact Beth Buschard-Stei
 ger (<a href="mailto:bbuscha@wustl.edu">bbuscha@wustl.edu</a>) for Zoom Det
 ails</p>
LOCATION:Zoom
GEO:38.635144;-90.262929
ORGANIZER;CN="Leslie":MAILTO:larnold@wustl.edu
URL;VALUE=URI:https://gastro.wustl.edu/events/event/research-club-21/
END:VEVENT
BEGIN:VTIMEZONE
TZID:America/Chicago
BEGIN:DAYLIGHT
TZOFFSETFROM:-0600
TZOFFSETTO:-0500
DTSTART:20240310T080000
TZNAME:CDT
END:DAYLIGHT
END:VTIMEZONE
END:VCALENDAR
