BEGIN:VCALENDAR
VERSION:2.0
PRODID:-//Division of Gastroenterology//NONSGML Events//EN
CALSCALE:GREGORIAN
X-ORIGINAL-URL:https://gastro.wustl.edu/events/
X-WR-CALDESC:Division of Gastroenterology - Events
BEGIN:VEVENT
UID:20191125T2143Z-1574718187.3244-EO-5803-1@172.23.128.18
STATUS:CONFIRMED
DTSTAMP:20260423T000012Z
CREATED:20191125T213623Z
LAST-MODIFIED:20191125T213623Z
DTSTART;TZID=America/Chicago:20191206T073000
DTEND;TZID=America/Chicago:20191206T083000
SUMMARY: Professors’ Rounds: Jaquelyn F. Fleckenstein\, MD
DESCRIPTION: “Professors’ Rounds“ Speaker: Jaquelyn F. Fleckenstein\, MD Pr
 ofessor of Medicine
X-ALT-DESC;FMTTYPE=text/html: <h2 style="text-align: center\;">"<em>Profess
 ors' Rounds</em>"</h2><h2 style="text-align: center\;">Speaker: Jaquelyn F.
  Fleckenstein\, MD</h2><h4 style="text-align: center\;">Professor of Medici
 ne</h4>
CATEGORIES:Professors' Rounds
LOCATION:Clouse Conference Room
GEO:38.621247;-90.252616
ORGANIZER;CN="Scott":MAILTO:bosso.scott@wustl.edu
URL;VALUE=URI:https://gastro.wustl.edu/events/event/professors-rounds-jaque
 lyn-f-fleckenstein-md-2/
END:VEVENT
BEGIN:VTIMEZONE
TZID:America/Chicago
BEGIN:STANDARD
TZOFFSETFROM:-0500
TZOFFSETTO:-0600
DTSTART:20191103T070000
TZNAME:CST
END:STANDARD
END:VTIMEZONE
END:VCALENDAR
