BEGIN:VCALENDAR
VERSION:2.0
PRODID:-//Division of Gastroenterology//NONSGML Events//EN
CALSCALE:GREGORIAN
X-ORIGINAL-URL:https://gastro.wustl.edu/events/
X-WR-CALDESC:Division of Gastroenterology - Events
BEGIN:VEVENT
UID:20191125T2159Z-1574719145.3079-EO-5818-1@172.23.128.18
STATUS:CONFIRMED
DTSTAMP:20260425T091348Z
CREATED:20191125T214353Z
LAST-MODIFIED:20191125T214353Z
DTSTART;TZID=America/Chicago:20191213T073000
DTEND;TZID=America/Chicago:20191213T083000
SUMMARY: Professors’ Rounds: Deborah C. Rubin\, MD\, AGAF
DESCRIPTION: “Professors’ Rounds“ Speaker: Deborah C. Rubin\, MD\, AGAF Wil
 liam B. Kountz Professor of Medicine
X-ALT-DESC;FMTTYPE=text/html: <h2 style="text-align: center\;">"<em>Profess
 ors' Rounds</em>"</h2><h2 style="text-align: center\;">Speaker: Deborah C. 
 Rubin\, MD\, AGAF</h2><h4 style="text-align: center\;">William B. Kountz Pr
 ofessor of Medicine</h4>
CATEGORIES:Professors' Rounds
LOCATION:Clouse Conference Room
GEO:38.621247;-90.252616
ORGANIZER;CN="Scott":MAILTO:bosso.scott@wustl.edu
URL;VALUE=URI:https://gastro.wustl.edu/events/event/professors-rounds-debor
 ah-c-rubin-md-agaf/
END:VEVENT
BEGIN:VTIMEZONE
TZID:America/Chicago
BEGIN:STANDARD
TZOFFSETFROM:-0500
TZOFFSETTO:-0600
DTSTART:20191103T070000
TZNAME:CST
END:STANDARD
END:VTIMEZONE
END:VCALENDAR
