BEGIN:VCALENDAR
VERSION:2.0
PRODID:-//Division of Gastroenterology//NONSGML Events//EN
CALSCALE:GREGORIAN
X-ORIGINAL-URL:https://gastro.wustl.edu/events/
X-WR-CALDESC:Division of Gastroenterology - Events
BEGIN:VEVENT
UID:20181009T1607Z-1539101270.1753-EO-4725-1@172.20.65.30
STATUS:CONFIRMED
DTSTAMP:20260421T030955Z
CREATED:20181009T155816Z
LAST-MODIFIED:20181009T155816Z
DTSTART;TZID=America/Chicago:20190405T073000
DTEND;TZID=America/Chicago:20190405T083000
SUMMARY: Professors’ Rounds: David H. Alpers\, MD
DESCRIPTION: Speaker: David H. Alpers\, MD Emeritus William B. Kountz Profe
 ssor of Medicine
X-ALT-DESC;FMTTYPE=text/html: <h2 style="text-align: center\;"></h2><h2 sty
 le="text-align: center\;">Speaker: David H. Alpers\, MD</h2><h4 style="text
 -align: center\;">Emeritus William B. Kountz Professor of Medicine</h4>
CATEGORIES:Professors' Rounds
LOCATION:Clouse Conference Room
GEO:38.621247;-90.252616
ORGANIZER;CN="Scott":MAILTO:bosso.scott@wustl.edu
URL;VALUE=URI:https://gastro.wustl.edu/events/event/professors-rounds-david
 -h-alpers-md/
END:VEVENT
BEGIN:VTIMEZONE
TZID:America/Chicago
BEGIN:DAYLIGHT
TZOFFSETFROM:-0600
TZOFFSETTO:-0500
DTSTART:20190310T080000
TZNAME:CDT
END:DAYLIGHT
END:VTIMEZONE
END:VCALENDAR
