BEGIN:VCALENDAR
VERSION:2.0
PRODID:-//Division of Gastroenterology//NONSGML Events//EN
CALSCALE:GREGORIAN
X-ORIGINAL-URL:https://gastro.wustl.edu/events/
X-WR-CALDESC:Division of Gastroenterology - Events
BEGIN:VEVENT
UID:20250131T1637Z-1738341439.0269-EO-11053-1@10.73.10.131
STATUS:CONFIRMED
DTSTAMP:20260419T222524Z
CREATED:20250131T163544Z
LAST-MODIFIED:20250131T163608Z
DTSTART;TZID=America/Chicago:20250203T070000
DTEND;TZID=America/Chicago:20250203T080000
SUMMARY: Professor’s Rounds
DESCRIPTION: Professor’s Rounds Charlene M. Prather\, MD\, MPH Professor of
  Medicine & Brett Riederman\, MD   Please Contact Beth Buschard-Steiger (bb
 uscha@wustl.edu) for Zoom Details
X-ALT-DESC;FMTTYPE=text/html: <h4 style="text-align: center\;">Professor's 
 Rounds</h4><h5 style="text-align: center\;">Charlene M. Prather\, MD\, MPH<
 br />Professor of Medicine<br />&<br />Brett Riederman\, MD</h5><p> </p><p 
 style="text-align: center\;">Please Contact Beth Buschard-Steiger (<a href=
 "mailto:bbuscha@wustl.edu">bbuscha@wustl.edu</a>) for Zoom Details</p>
CATEGORIES:Professors' Rounds
LOCATION:Zoom
GEO:38.635144;-90.262929
ORGANIZER;CN="Leslie":MAILTO:larnold@wustl.edu
URL;VALUE=URI:https://gastro.wustl.edu/events/event/professors-rounds-20/
END:VEVENT
BEGIN:VTIMEZONE
TZID:America/Chicago
BEGIN:STANDARD
TZOFFSETFROM:-0500
TZOFFSETTO:-0600
DTSTART:20241103T070000
TZNAME:CST
END:STANDARD
END:VTIMEZONE
END:VCALENDAR
