BEGIN:VCALENDAR
VERSION:2.0
PRODID:-//Division of Gastroenterology//NONSGML Events//EN
CALSCALE:GREGORIAN
X-ORIGINAL-URL:https://gastro.wustl.edu/events/
X-WR-CALDESC:Division of Gastroenterology - Events
BEGIN:VEVENT
UID:20250107T1752Z-1736272323.4024-EO-11021-1@10.73.10.131
STATUS:CONFIRMED
DTSTAMP:20260422T092229Z
CREATED:20250107T174854Z
LAST-MODIFIED:20250107T174900Z
DTSTART;TZID=America/Chicago:20250116T070000
DTEND;TZID=America/Chicago:20250116T080000
SUMMARY: Professor’s Rounds
DESCRIPTION: Chien-Huan Chen\, MD\, PhD Professor of Medicine Associate Dir
 ector of Clinical Affairs Director\, General GI Director\, Patient Safety a
 nd Quality Director\, Small Bowel Endoscopy Program & Christina Kratschmer\
 , MD\, PhD Advanced IBD Fellow   Please Contact Beth Buschard-Steiger (bbus
 cha@wustl.edu) for Zoom Details
X-ALT-DESC;FMTTYPE=text/html: <h4 style="text-align: center\;">Chien-Huan C
 hen\, MD\, PhD</h4><h5 style="text-align: center\;">Professor of Medicine<b
 r />Associate Director of Clinical Affairs<br />Director\, General GI<br />
 Director\, Patient Safety and Quality<br />Director\, Small Bowel Endoscopy
  Program</h5><h5 style="text-align: center\;">&</h5><h4 style="text-align: 
 center\;">Christina Kratschmer\, MD\, PhD</h4><h5 style="text-align: center
 \;">Advanced IBD Fellow</h5><p> </p><p style="text-align: center\;">Please 
 Contact Beth Buschard-Steiger (<a href="mailto:bbuscha@wustl.edu">bbuscha@w
 ustl.edu</a>) for Zoom Details</p>
CATEGORIES:Professors' Rounds
LOCATION:Zoom
GEO:38.635144;-90.262929
ORGANIZER;CN="Leslie":MAILTO:larnold@wustl.edu
URL;VALUE=URI:https://gastro.wustl.edu/events/event/professors-rounds-19/
END:VEVENT
BEGIN:VTIMEZONE
TZID:America/Chicago
BEGIN:STANDARD
TZOFFSETFROM:-0500
TZOFFSETTO:-0600
DTSTART:20241103T070000
TZNAME:CST
END:STANDARD
END:VTIMEZONE
END:VCALENDAR
