BEGIN:VCALENDAR
VERSION:2.0
PRODID:-//Division of Gastroenterology//NONSGML Events//EN
CALSCALE:GREGORIAN
X-ORIGINAL-URL:https://gastro.wustl.edu/events/
X-WR-CALDESC:Division of Gastroenterology - Events
BEGIN:VEVENT
UID:20241108T1523Z-1731079396.7801-EO-10900-1@10.24.106.144
STATUS:CONFIRMED
DTSTAMP:20260424T093529Z
CREATED:20241108T152244Z
LAST-MODIFIED:20241108T152244Z
DTSTART;TZID=America/Chicago:20241114T070000
DTEND;TZID=America/Chicago:20241114T080000
SUMMARY: Professor’s Rounds
DESCRIPTION: Jeffrey S. Crippin\, MD Profesesor of Medicine Marilyn E. Born
 efeld Chair in Gastrointestinal Research and Treatment Associate Chairman f
 or Clinical Programs & Sarah Alharfi\, MD Third-Year Fellow   Please Contac
 t Beth Buschard-Steiger (bbuscha@wustl.edu) for Zoom Details
X-ALT-DESC;FMTTYPE=text/html: <h4 style="text-align: center\;">Jeffrey S. C
 rippin\, MD<br />Profesesor of Medicine<br />Marilyn E. Bornefeld Chair in 
 Gastrointestinal Research and Treatment<br />Associate Chairman for Clinica
 l Programs<br />&</h4><h4 style="text-align: center\;">Sarah Alharfi\, MD<b
 r />Third-Year Fellow</h4><p> </p><p style="text-align: center\;">Please Co
 ntact Beth Buschard-Steiger (<a href="mailto:bbuscha@wustl.edu">bbuscha@wus
 tl.edu</a>) for Zoom Details</p>
CATEGORIES:Professors' Rounds
LOCATION:Zoom
GEO:38.635144;-90.262929
ORGANIZER;CN="Leslie":MAILTO:larnold@wustl.edu
URL;VALUE=URI:https://gastro.wustl.edu/events/event/professors-rounds-17/
END:VEVENT
BEGIN:VTIMEZONE
TZID:America/Chicago
BEGIN:STANDARD
TZOFFSETFROM:-0500
TZOFFSETTO:-0600
DTSTART:20241103T070000
TZNAME:CST
END:STANDARD
END:VTIMEZONE
END:VCALENDAR
