BEGIN:VCALENDAR
VERSION:2.0
PRODID:-//Division of Gastroenterology//NONSGML Events//EN
CALSCALE:GREGORIAN
X-ORIGINAL-URL:https://gastro.wustl.edu/events/
X-WR-CALDESC:Division of Gastroenterology - Events
BEGIN:VEVENT
UID:20240606T1324Z-1717680271.8537-EO-10513-1@172.23.128.18
STATUS:CONFIRMED
DTSTAMP:20260422T173127Z
CREATED:20240606T132023Z
LAST-MODIFIED:20240606T132107Z
DTSTART;TZID=America/Chicago:20240613T070000
DTEND;TZID=America/Chicago:20240613T080000
SUMMARY: Professor’s Rounds
DESCRIPTION: Professor’s Rounds  Deborah C. Rubin\, MD\, AGAF William B. Ko
 untz Professor of Medicine Professor of Developmental Biology Associate Dir
 ector for Faculty Affairs Director\, Womens’ GI Committee & ZeNan Chang\, M
 D\, PhD Third Year Fellow   Please Contact Beth Buschard-Steiger (bbuscha@w
 ustl.edu) for Zoom Details
X-ALT-DESC;FMTTYPE=text/html: <h4 style="text-align: center\;"><em>Professo
 r's Rounds </em></h4><h5 style="text-align: center\;">Deborah C. Rubin\, MD
 \, AGAF<br />William B. Kountz Professor of Medicine<br />Professor of Deve
 lopmental Biology<br />Associate Director for Faculty Affairs<br />Director
 \, Womens' GI Committee<br />&<br />ZeNan Chang\, MD\, PhD<br />Third Year 
 Fellow</h5><p> </p><p style="text-align: center\;">Please Contact Beth Busc
 hard-Steiger (<a href="mailto:bbuscha@wustl.edu">bbuscha@wustl.edu</a>) for
  Zoom Details</p>
LOCATION:Zoom
GEO:38.635144;-90.262929
ORGANIZER;CN="Leslie":MAILTO:larnold@wustl.edu
URL;VALUE=URI:https://gastro.wustl.edu/events/event/professors-rounds-16/
END:VEVENT
BEGIN:VTIMEZONE
TZID:America/Chicago
BEGIN:DAYLIGHT
TZOFFSETFROM:-0600
TZOFFSETTO:-0500
DTSTART:20240310T080000
TZNAME:CDT
END:DAYLIGHT
END:VTIMEZONE
END:VCALENDAR
