BEGIN:VCALENDAR
VERSION:2.0
PRODID:-//Division of Gastroenterology//NONSGML Events//EN
CALSCALE:GREGORIAN
X-ORIGINAL-URL:https://gastro.wustl.edu/events/
X-WR-CALDESC:Division of Gastroenterology - Events
BEGIN:VEVENT
UID:20250429T1648Z-1745945333.7665-EO-11186-1@10.73.10.131
STATUS:CONFIRMED
DTSTAMP:20260425T104248Z
CREATED:20250429T164403Z
LAST-MODIFIED:20250429T164403Z
DTSTART;TZID=America/Chicago:20250513T070000
DTEND;TZID=America/Chicago:20250513T080000
SUMMARY: Journal Club
DESCRIPTION: Aldanah Althwanay\, MBBS   & Julio Renato Beas Nino de Guzman\
 , MD “Comparison of digitally delivered gut-directed hypnotherapy program t
 o an active control for irritable bowel syndrome” Please Contact Beth Busch
 ard-Steiger (bbuscha@wustl.edu) for Zoom Details
X-ALT-DESC;FMTTYPE=text/html: <h5 class="washu-ppi-name entry-title" style=
 "text-align: center\;"><span class="entry-title-span">Aldanah Althwanay\, M
 BBS</span></h5><p> </p><h5 style="text-align: center\;">&</h5><h5 class="wa
 shu-ppi-name entry-title" style="text-align: center\;"><span class="entry-t
 itle-span">Julio Renato Beas Nino de Guzman\, MD</span></h5><h5 style="text
 -align: center\;">"Comparison of digitally delivered gut-directed hypnother
 apy program to an active control for irritable bowel syndrome"</h5><h5 styl
 e="text-align: center\;"></h5><h5 style="text-align: center\;">Please Conta
 ct Beth Buschard-Steiger (<a href="mailto:bbuscha@wustl.edu">bbuscha@wustl.
 edu</a>) for Zoom Details</h5>
CATEGORIES:Journal Club
LOCATION:Zoom
GEO:38.635144;-90.262929
ORGANIZER;CN="Leslie":MAILTO:larnold@wustl.edu
URL;VALUE=URI:https://gastro.wustl.edu/events/event/journal-club-47/
END:VEVENT
BEGIN:VTIMEZONE
TZID:America/Chicago
BEGIN:DAYLIGHT
TZOFFSETFROM:-0600
TZOFFSETTO:-0500
DTSTART:20250309T080000
TZNAME:CDT
END:DAYLIGHT
END:VTIMEZONE
END:VCALENDAR
