BEGIN:VCALENDAR
VERSION:2.0
PRODID:-//Division of Gastroenterology//NONSGML Events//EN
CALSCALE:GREGORIAN
X-ORIGINAL-URL:https://gastro.wustl.edu/events/
X-WR-CALDESC:Division of Gastroenterology - Events
BEGIN:VEVENT
UID:20250410T1319Z-1744291195.7119-EO-11162-1@10.73.10.131
STATUS:CONFIRMED
DTSTAMP:20260417T225956Z
CREATED:20250410T131143Z
LAST-MODIFIED:20250410T131558Z
DTSTART;TZID=America/Chicago:20250415T070000
DTEND;TZID=America/Chicago:20250415T080000
SUMMARY: Journal Club
DESCRIPTION: Edward Hurtte\, MD  TBD “The Vibrating Capsule: Safety and Tol
 erability in Patients With Chronic Idiopathic Constipation” & Janki Luther\
 , MD\, MPH “A Novel\, IBS-Specific IgG ELISA-Based Elimination Diet in Irri
 table Bowel Syndrome: A Randomized\, Sham-Controlled Trial” Please Contact 
 Beth Buschard-Steiger (bbuscha@wustl.edu) for Zoom Details
X-ALT-DESC;FMTTYPE=text/html: <h5 style="text-align: center\;">Edward Hurtt
 e\, MD  TBD</h5><h5 style="text-align: center\;">"The Vibrating Capsule: Sa
 fety and Tolerability in Patients With Chronic Idiopathic Constipation"</h5
 ><h5 style="text-align: center\;">&</h5><h5 style="text-align: center\;">Ja
 nki Luther\, MD\, MPH</h5><h5 style="text-align: center\;"><em>"A Novel\, I
 BS-Specific IgG ELISA-Based Elimination Diet in Irritable Bowel Syndrome: A
  Randomized\, Sham-Controlled Trial”</em></h5><h5 style="text-align: center
 \;"></h5><h5 style="text-align: center\;">Please Contact Beth Buschard-Stei
 ger (<a href="mailto:bbuscha@wustl.edu">bbuscha@wustl.edu</a>) for Zoom Det
 ails</h5>
CATEGORIES:Journal Club
LOCATION:Zoom
GEO:38.635144;-90.262929
ORGANIZER;CN="Leslie":MAILTO:larnold@wustl.edu
URL;VALUE=URI:https://gastro.wustl.edu/events/event/journal-club-45/
END:VEVENT
BEGIN:VTIMEZONE
TZID:America/Chicago
BEGIN:DAYLIGHT
TZOFFSETFROM:-0600
TZOFFSETTO:-0500
DTSTART:20250309T080000
TZNAME:CDT
END:DAYLIGHT
END:VTIMEZONE
END:VCALENDAR
