BEGIN:VCALENDAR
VERSION:2.0
PRODID:-//Division of Gastroenterology//NONSGML Events//EN
CALSCALE:GREGORIAN
X-ORIGINAL-URL:https://gastro.wustl.edu/events/
X-WR-CALDESC:Division of Gastroenterology - Events
BEGIN:VEVENT
UID:20250305T2054Z-1741208059.3533-EO-11120-1@10.73.10.131
STATUS:CONFIRMED
DTSTAMP:20260417T225952Z
CREATED:20250304T143624Z
LAST-MODIFIED:20250304T143624Z
DTSTART;TZID=America/Chicago:20250304T070000
DTEND;TZID=America/Chicago:20250304T080000
SUMMARY: Journal Club
DESCRIPTION: “Safety and Tolerability of CP101\, a Full-Spectrum\, Oral Mic
 robiome Therapeutic for the Prevention of Recurrent Clostridioides difficil
 e Infection: A Phase 2 Randomized Controlled Trial”  Brett Riederman\, MD &
  “Follow-Up Colonoscopy for Detection of Missed Colorectal Cancer After Div
 erticulitis” Janaki Shah\, MD   Please Contact Beth Buschard-Steiger (bbusc
 ha@wustl.edu) for Zoom Details
X-ALT-DESC;FMTTYPE=text/html: <h5 style="text-align: center\;"><em>"Safety 
 and Tolerability of CP101\, a Full-Spectrum\, Oral Microbiome Therapeutic f
 or the Prevention of Recurrent Clostridioides difficile Infection: A Phase 
 2 Randomized Controlled Trial" </em></h5><h5 style="text-align: center\;">B
 rett Riederman\, MD</h5><h5 style="text-align: center\;">&</h5><h5 style="t
 ext-align: center\;"><em>"Follow-Up Colonoscopy for Detection of Missed Col
 orectal Cancer After Diverticulitis"</em></h5><h5 style="text-align: center
 \;">Janaki Shah\, MD</h5><p> </p><p style="text-align: center\;"><p style="
 text-align: center\;">Please Contact Beth Buschard-Steiger (<a href="mailto
 :bbuscha@wustl.edu">bbuscha@wustl.edu</a>) for Zoom Details</p>
CATEGORIES:Journal Club
LOCATION:Zoom
GEO:38.635144;-90.262929
ORGANIZER;CN="Leslie":MAILTO:larnold@wustl.edu
URL;VALUE=URI:https://gastro.wustl.edu/events/event/journal-club-41/
END:VEVENT
BEGIN:VTIMEZONE
TZID:America/Chicago
BEGIN:STANDARD
TZOFFSETFROM:-0500
TZOFFSETTO:-0600
DTSTART:20241103T070000
TZNAME:CST
END:STANDARD
END:VTIMEZONE
END:VCALENDAR
