BEGIN:VCALENDAR
VERSION:2.0
PRODID:-//Division of Gastroenterology//NONSGML Events//EN
CALSCALE:GREGORIAN
X-ORIGINAL-URL:https://gastro.wustl.edu/events/
X-WR-CALDESC:Division of Gastroenterology - Events
BEGIN:VEVENT
UID:20240530T2103Z-1717103019.1977-EO-10493-1@172.23.128.18
STATUS:CONFIRMED
DTSTAMP:20260422T093031Z
CREATED:20240530T205737Z
LAST-MODIFIED:20240530T205737Z
DTSTART;TZID=America/Chicago:20240604T070000
DTEND;TZID=America/Chicago:20240604T080000
SUMMARY: Journal Club
DESCRIPTION: Pharmacogenomic testing for CYP2C19 and CYP2D6 in cyclic vomit
 ing syndrome Edward Hurtte\, MD First Year Fellow   Please Contact Beth Bus
 chard-Steiger (bbuscha@wustl.edu) for Zoom Details
X-ALT-DESC;FMTTYPE=text/html: <h4 style="text-align: center\;">Pharmacogeno
 mic testing for CYP2C19 and CYP2D6 in cyclic vomiting syndrome</h4><h5 styl
 e="text-align: center\;">Edward Hurtte\, MD<br />First Year Fellow</h5><p> 
 </p><p style="text-align: center\;"><p style="text-align: center\;">Please 
 Contact Beth Buschard-Steiger (<a href="mailto:bbuscha@wustl.edu">bbuscha@w
 ustl.edu</a>) for Zoom Details</p>
CATEGORIES:Journal Club
LOCATION:Zoom
GEO:38.635144;-90.262929
ORGANIZER;CN="Leslie":MAILTO:larnold@wustl.edu
URL;VALUE=URI:https://gastro.wustl.edu/events/event/journal-club-35/
END:VEVENT
BEGIN:VTIMEZONE
TZID:America/Chicago
BEGIN:DAYLIGHT
TZOFFSETFROM:-0600
TZOFFSETTO:-0500
DTSTART:20240310T080000
TZNAME:CDT
END:DAYLIGHT
END:VTIMEZONE
END:VCALENDAR
