BEGIN:VCALENDAR
VERSION:2.0
PRODID:-//Division of Gastroenterology//NONSGML Events//EN
CALSCALE:GREGORIAN
X-ORIGINAL-URL:https://gastro.wustl.edu/events/
X-WR-CALDESC:Division of Gastroenterology - Events
BEGIN:VEVENT
UID:20190308T2027Z-1552076851.9679-EO-5188-1@172.23.128.19
STATUS:CONFIRMED
DTSTAMP:20260425T121427Z
CREATED:20190308T201800Z
LAST-MODIFIED:20190308T201825Z
DTSTART;TZID=America/Chicago:20190308T120000
DTEND;TZID=America/Chicago:20190308T130000
SUMMARY: GI Research Conference: David G. DeNardo\, PhD
DESCRIPTION: “Targeting the Pancreatic Tumor Microenviorment“ Speaker: Davi
 d G. DeNardo\, PhD Associate Professor of Medicine Department of Pathology 
 & Immunology
X-ALT-DESC;FMTTYPE=text/html: <h2 style="text-align: center\;">"<em>Targeti
 ng the Pancreatic Tumor Microenviorment</em>"</h2><h2 style="text-align: ce
 nter\;">Speaker: David G. DeNardo\, PhD</h2><h4 style="text-align: center\;
 ">Associate Professor of Medicine<br />Department of Pathology & Immunology
 </h4>
CATEGORIES:GI Research Conference
LOCATION:Alpers Conference Room\, Clinical Sciences Research Building\, Room 901
GEO:38.637561;-90.263516
ORGANIZER;CN="Scott":MAILTO:bosso.scott@wustl.edu
URL;VALUE=URI:https://gastro.wustl.edu/events/event/gi-research-conference-
 david-g-denardo-phd/
END:VEVENT
BEGIN:VTIMEZONE
TZID:America/Chicago
BEGIN:STANDARD
TZOFFSETFROM:-0500
TZOFFSETTO:-0600
DTSTART:20181104T070000
TZNAME:CST
END:STANDARD
END:VTIMEZONE
END:VCALENDAR
