BEGIN:VCALENDAR
VERSION:2.0
PRODID:-//Division of Gastroenterology//NONSGML Events//EN
CALSCALE:GREGORIAN
X-ORIGINAL-URL:https://gastro.wustl.edu/events/
X-WR-CALDESC:Division of Gastroenterology - Events
BEGIN:VEVENT
UID:20191002T1944Z-1570045479.0669-EO-5689-1@172.23.128.18
STATUS:CONFIRMED
DTSTAMP:20260425T134603Z
CREATED:20191002T194259Z
LAST-MODIFIED:20191125T213506Z
DTSTART;TZID=America/Chicago:20191206T120000
DTEND;TZID=America/Chicago:20191206T130000
SUMMARY: GI Research Conference: Brian Finck\, PhD
DESCRIPTION: “Targeting Intermediary Metabolism to Understand and Treat Non
 alcoholic Fatty Liver Disease“ Speaker: Brian Finck\, PhD Associate Profess
 or of Medicine Division of Geriatrics & Nutritional Science
X-ALT-DESC;FMTTYPE=text/html: <h2 style="text-align: center\;">"<em>Targeti
 ng Intermediary Metabolism to Understand and Treat Nonalcoholic Fatty Liver
  Disease</em>"</h2><h2 style="text-align: center\;">Speaker: Brian Finck\, 
 PhD</h2><h4 style="text-align: center\;">Associate Professor of Medicine<br
  />Division of Geriatrics & Nutritional Science</h4>
CATEGORIES:GI Research Conference
LOCATION:Alpers Conference Room\, Clinical Sciences Research Building\, Room 901
GEO:38.637561;-90.263516
ORGANIZER;CN="Scott":MAILTO:bosso.scott@wustl.edu
URL;VALUE=URI:https://gastro.wustl.edu/events/event/gi-research-conference-
 brian-finck-phd/
END:VEVENT
BEGIN:VTIMEZONE
TZID:America/Chicago
BEGIN:STANDARD
TZOFFSETFROM:-0500
TZOFFSETTO:-0600
DTSTART:20191103T070000
TZNAME:CST
END:STANDARD
END:VTIMEZONE
END:VCALENDAR
