BEGIN:VCALENDAR
VERSION:2.0
PRODID:-//Division of Gastroenterology//NONSGML Events//EN
CALSCALE:GREGORIAN
X-ORIGINAL-URL:https://gastro.wustl.edu/events/
X-WR-CALDESC:Division of Gastroenterology - Events
BEGIN:VEVENT
UID:20210504T1858Z-1620154718.5275-EO-6784-1@172.23.128.19
STATUS:CONFIRMED
DTSTAMP:20260425T151626Z
CREATED:20210504T185353Z
LAST-MODIFIED:20210504T185353Z
DTSTART;TZID=America/Chicago:20210512T170000
DTEND;TZID=America/Chicago:20210512T180000
SUMMARY: GI Division Rounds: Vladimir Kushnir\, MD
DESCRIPTION: “Management of Large Polyps“ Speaker: Vladimir Kushnir\, MD As
 sociate Professor of Medicine Please Contact Beth Buschard-Steiger for Zoom
  Details
X-ALT-DESC;FMTTYPE=text/html: <h2 style="text-align: center\;">"<em>Managem
 ent of Large Polyps</em>"</h2><h2 style="text-align: center\;">Speaker: Vla
 dimir Kushnir\, MD</h2><h4 style="text-align: center\;">Associate Professor
  of Medicine</h4><h4 style="text-align: center\;">Please Contact Beth Busch
 ard-Steiger for Zoom Details</h4>
CATEGORIES:GI Division Rounds
LOCATION:Zoom
GEO:38.635144;-90.262929
ORGANIZER;CN="Scott":MAILTO:bosso.scott@wustl.edu
URL;VALUE=URI:https://gastro.wustl.edu/events/event/gi-division-rounds-vlad
 imir-kushnir-md/
END:VEVENT
BEGIN:VTIMEZONE
TZID:America/Chicago
BEGIN:DAYLIGHT
TZOFFSETFROM:-0600
TZOFFSETTO:-0500
DTSTART:20210314T080000
TZNAME:CDT
END:DAYLIGHT
END:VTIMEZONE
END:VCALENDAR
