BEGIN:VCALENDAR
VERSION:2.0
PRODID:-//Division of Gastroenterology//NONSGML Events//EN
CALSCALE:GREGORIAN
X-ORIGINAL-URL:https://gastro.wustl.edu/events/
X-WR-CALDESC:Division of Gastroenterology - Events
BEGIN:VEVENT
UID:20201218T1835Z-1608316552.5349-EO-6518-1@172.23.128.18
STATUS:CONFIRMED
DTSTAMP:20260420T094959Z
CREATED:20201218T183507Z
LAST-MODIFIED:20210201T162747Z
DTSTART;TZID=America/Chicago:20210202T170000
DTEND;TZID=America/Chicago:20210202T180000
SUMMARY: GI Division Rounds: Jason Samarasena\, MD
DESCRIPTION: “EndoHepatology is Now!“ Speaker: Jason Samarasena\, MD Associ
 ate Clinical Professor of Medicine Division of Gastroenterology University 
 of California Irvine Please Contact Beth Buschard-Steiger for Zoom Details
X-ALT-DESC;FMTTYPE=text/html: <h2 style="text-align: center\;">"<em>EndoHep
 atology is Now!</em>"</h2><h2 style="text-align: center\;">Speaker: Jason S
 amarasena\, MD</h2><h4 style="text-align: center\;">Associate Clinical Prof
 essor of Medicine<br />Division of Gastroenterology<br />University of Cali
 fornia Irvine</h4><h4 style="text-align: center\;">Please Contact Beth Busc
 hard-Steiger for Zoom Details</h4>
CATEGORIES:GI Division Rounds
LOCATION:Zoom
GEO:38.635144;-90.262929
ORGANIZER;CN="Scott":MAILTO:bosso.scott@wustl.edu
URL;VALUE=URI:https://gastro.wustl.edu/events/event/gi-division-rounds-spea
 ker-tbd/
END:VEVENT
BEGIN:VTIMEZONE
TZID:America/Chicago
BEGIN:STANDARD
TZOFFSETFROM:-0500
TZOFFSETTO:-0600
DTSTART:20201101T070000
TZNAME:CST
END:STANDARD
END:VTIMEZONE
END:VCALENDAR
