BEGIN:VCALENDAR
VERSION:2.0
PRODID:-//Division of Gastroenterology//NONSGML Events//EN
CALSCALE:GREGORIAN
X-ORIGINAL-URL:https://gastro.wustl.edu/events/
X-WR-CALDESC:Division of Gastroenterology - Events
BEGIN:VEVENT
UID:20200925T2044Z-1601066693.0119-EO-6239-1@172.23.128.19
STATUS:CONFIRMED
DTSTAMP:20260420T192854Z
CREATED:20200925T204349Z
LAST-MODIFIED:20201103T204318Z
DTSTART;TZID=America/Chicago:20200930T170000
DTEND;TZID=America/Chicago:20200930T180000
SUMMARY: GI Division Rounds: Scott McHenry\, MD
DESCRIPTION: “Introduction to Clinical Research Methods for GI Fellows“ Spe
 akers: Scott McHenry\, MD Assistant Professor of Medicine Please Contact Be
 th Buschard-Steiger for Zoom Details
X-ALT-DESC;FMTTYPE=text/html: <h2 style="text-align: center\;">"<em>Introdu
 ction to Clinical Research Methods for GI Fellows</em>"</h2><h2 style="text
 -align: center\;">Speakers: Scott McHenry\, MD</h2><h4 style="text-align: c
 enter\;">Assistant Professor of Medicine</h4><h4 style="text-align: center\
 ;">Please Contact Beth Buschard-Steiger for Zoom Details</h4>
CATEGORIES:GI Division Rounds
LOCATION:Zoom
GEO:38.635144;-90.262929
ORGANIZER;CN="Scott":MAILTO:bosso.scott@wustl.edu
URL;VALUE=URI:https://gastro.wustl.edu/events/event/gi-division-rounds-scot
 t-mchenry-md/
END:VEVENT
BEGIN:VTIMEZONE
TZID:America/Chicago
BEGIN:DAYLIGHT
TZOFFSETFROM:-0600
TZOFFSETTO:-0500
DTSTART:20200308T080000
TZNAME:CDT
END:DAYLIGHT
END:VTIMEZONE
END:VCALENDAR
