BEGIN:VCALENDAR
VERSION:2.0
PRODID:-//Division of Gastroenterology//NONSGML Events//EN
CALSCALE:GREGORIAN
X-ORIGINAL-URL:https://gastro.wustl.edu/events/
X-WR-CALDESC:Division of Gastroenterology - Events
BEGIN:VEVENT
UID:20181009T1723Z-1539105815.1138-EO-4728-1@172.20.65.30
STATUS:CONFIRMED
DTSTAMP:20260425T105221Z
CREATED:20181009T172327Z
LAST-MODIFIED:20181018T165715Z
DTSTART;TZID=America/Chicago:20181024T160000
DTEND;TZID=America/Chicago:20181024T170000
SUMMARY: GI Division Rounds: Gary R. Lichtenstein\, MD
DESCRIPTION: “Treat-to-Target Approaches to IBD: Opportunities for Improvin
 g Response and Long-Term Management“ Speaker: Gary R. Lichtenstein\, MD Pro
 fessor of Medicine Division of Gastroenterology University of Pennsylvania
X-ALT-DESC;FMTTYPE=text/html: <h2 style="text-align: center\;">"<em>Treat-t
 o-Target Approaches to IBD: Opportunities for Improving Response and Long-T
 erm Management</em>"</h2><h2 style="text-align: center\;">Speaker: Gary R. 
 Lichtenstein\, MD</h2><h4 style="text-align: center\;">Professor of Medicin
 e<br />Division of Gastroenterology<br />University of Pennsylvania</h4>
CATEGORIES:GI Division Rounds
LOCATION:Farrell Conference Center 1 (Center for Advanced Medcine\, 3rd Floor)
GEO:38.638361;-90.263385
ORGANIZER;CN="Scott":MAILTO:bosso.scott@wustl.edu
URL;VALUE=URI:https://gastro.wustl.edu/events/event/gi-division-rounds-gary
 -r-lichtenstein-md/
END:VEVENT
BEGIN:VTIMEZONE
TZID:America/Chicago
BEGIN:DAYLIGHT
TZOFFSETFROM:-0600
TZOFFSETTO:-0500
DTSTART:20180311T080000
TZNAME:CDT
END:DAYLIGHT
END:VTIMEZONE
END:VCALENDAR
