BEGIN:VCALENDAR
VERSION:2.0
PRODID:-//Division of Gastroenterology//NONSGML Events//EN
CALSCALE:GREGORIAN
X-ORIGINAL-URL:https://gastro.wustl.edu/events/
X-WR-CALDESC:Division of Gastroenterology - Events
BEGIN:VEVENT
UID:20191008T1653Z-1570553586.2805-EO-5710-1@172.23.128.18
STATUS:CONFIRMED
DTSTAMP:20260425T111151Z
CREATED:20191008T164412Z
LAST-MODIFIED:20191024T185647Z
DTSTART;TZID=America/Chicago:20191023T170000
DTEND;TZID=America/Chicago:20191023T180000
SUMMARY: GI Division Rounds: Gail A. Hecht\, MD\, MS
DESCRIPTION: “Mentoring Session for Fellows & Junior Faculty“ Speaker: Gail
  A. Hecht\, MD\, MS Professor of Medicine\, Microbiology\, and Immunology C
 hief\, Division of Gastroenterology and Nutrition Loyola University Chicago
X-ALT-DESC;FMTTYPE=text/html: <h2 style="text-align: center\;">"<em>Mentori
 ng Session for Fellows & Junior Faculty</em>"</h2><h2 style="text-align: ce
 nter\;">Speaker: Gail A. Hecht\, MD\, MS</h2><h4 style="text-align: center\
 ;">Professor of Medicine\, Microbiology\, and Immunology<br />Chief\, Divis
 ion of Gastroenterology and Nutrition<br />Loyola University Chicago</h4>
CATEGORIES:GI Division Rounds
LOCATION:Clouse Conference Room
GEO:38.621247;-90.252616
ORGANIZER;CN="Scott":MAILTO:bosso.scott@wustl.edu
URL;VALUE=URI:https://gastro.wustl.edu/events/event/gi-division-rounds-gail
 -a-hecht-md-ms/
END:VEVENT
BEGIN:VTIMEZONE
TZID:America/Chicago
BEGIN:DAYLIGHT
TZOFFSETFROM:-0600
TZOFFSETTO:-0500
DTSTART:20190310T080000
TZNAME:CDT
END:DAYLIGHT
END:VTIMEZONE
END:VCALENDAR
