BEGIN:VCALENDAR
VERSION:2.0
PRODID:-//Division of Gastroenterology//NONSGML Events//EN
CALSCALE:GREGORIAN
X-ORIGINAL-URL:https://gastro.wustl.edu/events/
X-WR-CALDESC:Division of Gastroenterology - Events
BEGIN:VEVENT
UID:20191227T1921Z-1577474479.4549-EO-5851-1@172.23.128.18
STATUS:CONFIRMED
DTSTAMP:20260425T215419Z
CREATED:20191227T190141Z
LAST-MODIFIED:20191227T190251Z
DTSTART;TZID=America/Chicago:20200108T170000
DTEND;TZID=America/Chicago:20200108T180000
SUMMARY: GI Division Rounds: Arthur Joseph Decross\, MD
DESCRIPTION: “Physician Burnout and Trainee Distress in Gastroenterology“ S
 peaker: Arthur Joseph Decross\, MD Professor of Medicine Division of Gastro
 enterology and Hepatology University of Rochester Medical Center
X-ALT-DESC;FMTTYPE=text/html: <h2 style="text-align: center\;">"<em>Physici
 an Burnout and Trainee Distress in Gastroenterology</em>"</h2><h2 style="te
 xt-align: center\;">Speaker: Arthur Joseph Decross\, MD</h2><h4 style="text
 -align: center\;">Professor of Medicine<br />Division of Gastroenterology a
 nd Hepatology<br />University of Rochester Medical Center</h4>
CATEGORIES:External Invited Speaker,GI Division Rounds
LOCATION:Farrell Conference Center 1 (Center for Advanced Medcine\, 3rd Floor)
GEO:38.638361;-90.263385
ORGANIZER;CN="Scott":MAILTO:bosso.scott@wustl.edu
URL;VALUE=URI:https://gastro.wustl.edu/events/event/gi-division-rounds-arth
 ur-joseph-decross-md/
END:VEVENT
BEGIN:VTIMEZONE
TZID:America/Chicago
BEGIN:STANDARD
TZOFFSETFROM:-0500
TZOFFSETTO:-0600
DTSTART:20191103T070000
TZNAME:CST
END:STANDARD
END:VTIMEZONE
END:VCALENDAR
