BEGIN:VCALENDAR
VERSION:2.0
PRODID:-//Division of Gastroenterology//NONSGML Events//EN
CALSCALE:GREGORIAN
X-ORIGINAL-URL:https://gastro.wustl.edu/events/
X-WR-CALDESC:Division of Gastroenterology - Events
BEGIN:VEVENT
UID:20191024T1915Z-1571944530.5111-EO-5749-1@172.23.128.18
STATUS:CONFIRMED
DTSTAMP:20260422T133645Z
CREATED:20191024T191313Z
LAST-MODIFIED:20191024T191313Z
DTSTART;TZID=America/Chicago:20191113T170000
DTEND;TZID=America/Chicago:20191113T180000
SUMMARY: GI Division Rounds: Amit Patel\, MD
DESCRIPTION: “Advances in GERD Diagnostics“ Speaker: Amit Patel\, MD Assist
 ant Professor of Medicine Division of Gastroenterology Duke University\, Sc
 hool of Medicine Durham\, North Carolina
X-ALT-DESC;FMTTYPE=text/html: <h2 style="text-align: center\;">"<em>Advance
 s in GERD Diagnostics</em>"</h2><h2 style="text-align: center\;">Speaker: A
 mit Patel\, MD</h2><h4 style="text-align: center\;">Assistant Professor of 
 Medicine<br />Division of Gastroenterology<br />Duke University\, School of
  Medicine<br />Durham\, North Carolina</h4>
CATEGORIES:External Invited Speaker,GI Division Rounds
LOCATION:Farrell Conference Center 1 (Center for Advanced Medcine\, 3rd Floor)
GEO:38.638361;-90.263385
ORGANIZER;CN="Scott":MAILTO:bosso.scott@wustl.edu
URL;VALUE=URI:https://gastro.wustl.edu/events/event/gi-division-rounds-amit
 -patel-md/
END:VEVENT
BEGIN:VTIMEZONE
TZID:America/Chicago
BEGIN:STANDARD
TZOFFSETFROM:-0500
TZOFFSETTO:-0600
DTSTART:20191103T070000
TZNAME:CST
END:STANDARD
END:VTIMEZONE
END:VCALENDAR
