BEGIN:VCALENDAR
VERSION:2.0
PRODID:-//Division of Gastroenterology//NONSGML Events//EN
CALSCALE:GREGORIAN
X-ORIGINAL-URL:https://gastro.wustl.edu/events/
X-WR-CALDESC:Division of Gastroenterology - Events
BEGIN:VEVENT
UID:20250508T1644Z-1746722657.5121-EO-11206-1@10.73.10.131
STATUS:CONFIRMED
DTSTAMP:20260417T225952Z
CREATED:20250508T164251Z
LAST-MODIFIED:20250508T164251Z
DTSTART;TZID=America/Chicago:20250528T170000
DTEND;TZID=America/Chicago:20250528T180000
SUMMARY: Division Rounds
DESCRIPTION: Devika Kapuria\, MD\, MBBS Assistant Professor of Medicine Ple
 ase Contact Beth Buschard-Steiger (bbuscha@wustl.edu) for Zoom Details
X-ALT-DESC;FMTTYPE=text/html: <h4 class="washu-ppi-name entry-title" style=
 "text-align: center\;"><span class="entry-title-link">Devika Kapuria\, MD\,
  MBBS</span></h4><h4 class="washu-ppi-description" style="text-align: cente
 r\;">Assistant Professor of Medicine</h4><p style="text-align: center\;"><p
  style="text-align: center\;">Please Contact Beth Buschard-Steiger (<a href
 ="mailto:bbuscha@wustl.edu">bbuscha@wustl.edu</a>) for Zoom Details</p>
CATEGORIES:GI Division Rounds
LOCATION:Zoom
GEO:38.635144;-90.262929
ORGANIZER;CN="Leslie":MAILTO:larnold@wustl.edu
URL;VALUE=URI:https://gastro.wustl.edu/events/event/division-rounds-62/
END:VEVENT
BEGIN:VTIMEZONE
TZID:America/Chicago
BEGIN:DAYLIGHT
TZOFFSETFROM:-0600
TZOFFSETTO:-0500
DTSTART:20250309T080000
TZNAME:CDT
END:DAYLIGHT
END:VTIMEZONE
END:VCALENDAR
