BEGIN:VCALENDAR
VERSION:2.0
PRODID:-//Division of Gastroenterology//NONSGML Events//EN
CALSCALE:GREGORIAN
X-ORIGINAL-URL:https://gastro.wustl.edu/events/
X-WR-CALDESC:Division of Gastroenterology - Events
BEGIN:VEVENT
UID:20250415T1736Z-1744738613.3528-EO-11175-1@10.73.10.131
STATUS:CONFIRMED
DTSTAMP:20260417T225954Z
CREATED:20250415T173215Z
LAST-MODIFIED:20250415T173610Z
DTSTART;TZID=America/Chicago:20250423T170000
DTEND;TZID=America/Chicago:20250423T180000
SUMMARY: Division Rounds
DESCRIPTION: “Approach to positioning therapy in Crohn’s Disease” Kayci Huf
 f\, MD\, PhD Associate Professor of Medicine Director\, Patient Experience 
 and Pharmaceuticals
X-ALT-DESC;FMTTYPE=text/html: <h3 style="text-align: center\;"><em>"Approac
 h to positioning therapy in Crohn's Disease"</em></h3><h2 class="washu-ppi-
 name entry-title" style="text-align: center\;"><span class="entry-title-lin
 k">Kayci Huff\, MD\, PhD</span></h2><p class="washu-ppi-description" style=
 "text-align: center\;">Associate Professor of Medicine<br />Director\, Pati
 ent Experience and Pharmaceuticals</p>
CATEGORIES:GI Division Rounds
LOCATION:Clouse Conference Room
GEO:38.621247;-90.252616
ORGANIZER;CN="Leslie":MAILTO:larnold@wustl.edu
URL;VALUE=URI:https://gastro.wustl.edu/events/event/division-rounds-61/
END:VEVENT
BEGIN:VTIMEZONE
TZID:America/Chicago
BEGIN:DAYLIGHT
TZOFFSETFROM:-0600
TZOFFSETTO:-0500
DTSTART:20250309T080000
TZNAME:CDT
END:DAYLIGHT
END:VTIMEZONE
END:VCALENDAR
