BEGIN:VCALENDAR
VERSION:2.0
PRODID:-//Division of Gastroenterology//NONSGML Events//EN
CALSCALE:GREGORIAN
X-ORIGINAL-URL:https://gastro.wustl.edu/events/
X-WR-CALDESC:Division of Gastroenterology - Events
BEGIN:VEVENT
UID:20250404T1438Z-1743777524.3279-EO-11154-1@10.73.10.131
STATUS:CONFIRMED
DTSTAMP:20260422T210900Z
CREATED:20250404T143613Z
LAST-MODIFIED:20250404T143613Z
DTSTART;TZID=America/Chicago:20250409T160000
DTEND;TZID=America/Chicago:20250409T170000
SUMMARY: Division Rounds
DESCRIPTION: “Rolling in the Deep:  Current Practices in Third Space Endosc
 opy” Ahmad Najdat Bazarbashi\, MD Assistant Professor of Medicine Director\
 , Third Space Endoscopy Program Program Director\, Advanced Endoscopy Fello
 wship     Please Contact Beth Buschard-Steiger (bbuscha@wustl.edu) for Zoom
  Details
X-ALT-DESC;FMTTYPE=text/html: <h4 style="text-align: center\;"><em>"Rolling
  in the Deep:  Current Practices in Third Space Endoscopy"</em></h4><p styl
 e="text-align: center\;"><h5 class="washu-ppi-name entry-title" style="text
 -align: center\;"><span class="entry-title-link">Ahmad Najdat Bazarbashi\, 
 MD</span></h5><p class="washu-ppi-description" style="text-align: center\;"
 >Assistant Professor of Medicine<br />Director\, Third Space Endoscopy Prog
 ram<br />Program Director\, Advanced Endoscopy Fellowship</p><p> </p><p> </
 p><p style="text-align: center\;">Please Contact Beth Buschard-Steiger (<a 
 href="mailto:bbuscha@wustl.edu">bbuscha@wustl.edu</a>) for Zoom Details</p>
CATEGORIES:GI Division Rounds
LOCATION:Zoom
GEO:38.635144;-90.262929
ORGANIZER;CN="Leslie":MAILTO:larnold@wustl.edu
URL;VALUE=URI:https://gastro.wustl.edu/events/event/division-rounds-60/
END:VEVENT
BEGIN:VTIMEZONE
TZID:America/Chicago
BEGIN:DAYLIGHT
TZOFFSETFROM:-0600
TZOFFSETTO:-0500
DTSTART:20250309T080000
TZNAME:CDT
END:DAYLIGHT
END:VTIMEZONE
END:VCALENDAR
