BEGIN:VCALENDAR
VERSION:2.0
PRODID:-//Division of Gastroenterology//NONSGML Events//EN
CALSCALE:GREGORIAN
X-ORIGINAL-URL:https://gastro.wustl.edu/events/
X-WR-CALDESC:Division of Gastroenterology - Events
BEGIN:VEVENT
UID:20250325T1632Z-1742920372.638-EO-11144-1@10.73.10.131
STATUS:CONFIRMED
DTSTAMP:20260417T225956Z
CREATED:20250325T162926Z
LAST-MODIFIED:20250325T162931Z
DTSTART;TZID=America/Chicago:20250402T170000
DTEND;TZID=America/Chicago:20250402T180000
SUMMARY: Division Rounds
DESCRIPTION: “Living Donor Liver Transplantation” Lindsay Meurer\, MD Assis
 tant Professor of Medicine   Please Contact Beth Buschard-Steiger (bbuscha@
 wustl.edu) for Zoom Details    
X-ALT-DESC;FMTTYPE=text/html: <h4 style="text-align: center\;"><em>"Living 
 Donor Liver Transplantation"</em></h4><p style="text-align: center\;">Linds
 ay Meurer\, MD</p><p style="text-align: center\;">Assistant Professor of Me
 dicine</p><p> </p><p style="text-align: center\;">Please Contact Beth Busch
 ard-Steiger (<a href="mailto:bbuscha@wustl.edu">bbuscha@wustl.edu</a>) for 
 Zoom Details</p><p> </p><p> </p>
CATEGORIES:GI Division Rounds
LOCATION:Zoom
GEO:38.635144;-90.262929
ORGANIZER;CN="Leslie":MAILTO:larnold@wustl.edu
URL;VALUE=URI:https://gastro.wustl.edu/events/event/division-rounds-58/
END:VEVENT
BEGIN:VTIMEZONE
TZID:America/Chicago
BEGIN:DAYLIGHT
TZOFFSETFROM:-0600
TZOFFSETTO:-0500
DTSTART:20250309T080000
TZNAME:CDT
END:DAYLIGHT
END:VTIMEZONE
END:VCALENDAR
