BEGIN:VCALENDAR
VERSION:2.0
PRODID:-//Division of Gastroenterology//NONSGML Events//EN
CALSCALE:GREGORIAN
X-ORIGINAL-URL:https://gastro.wustl.edu/events/
X-WR-CALDESC:Division of Gastroenterology - Events
BEGIN:VEVENT
UID:20250221T2056Z-1740171386.3637-EO-11106-1@10.73.10.131
STATUS:CONFIRMED
DTSTAMP:20260423T080556Z
CREATED:20250221T203423Z
LAST-MODIFIED:20250221T203423Z
DTSTART;TZID=America/Chicago:20250225T070000
DTEND;TZID=America/Chicago:20250225T080000
SUMMARY: Division Rounds
DESCRIPTION: Deborah Adekunle\, MBChB\, MPH Samantha Bai\, MD\, PhD   Pleas
 e Contact Beth Buschard-Steiger (bbuscha@wustl.edu) for Zoom Details
X-ALT-DESC;FMTTYPE=text/html: <p style="text-align: center\;">Deborah Adeku
 nle\, MBChB\, MPH<br />Samantha Bai\, MD\, PhD</p><p> </p><p style="text-al
 ign: center\;">Please Contact Beth Buschard-Steiger (<a href="mailto:bbusch
 a@wustl.edu">bbuscha@wustl.edu</a>) for Zoom Details</p>
CATEGORIES:GI Division Rounds
LOCATION:Zoom
GEO:38.635144;-90.262929
ORGANIZER;CN="Leslie":MAILTO:larnold@wustl.edu
URL;VALUE=URI:https://gastro.wustl.edu/events/event/division-rounds-55/
END:VEVENT
BEGIN:VTIMEZONE
TZID:America/Chicago
BEGIN:STANDARD
TZOFFSETFROM:-0500
TZOFFSETTO:-0600
DTSTART:20241103T070000
TZNAME:CST
END:STANDARD
END:VTIMEZONE
END:VCALENDAR
