BEGIN:VCALENDAR
VERSION:2.0
PRODID:-//Division of Gastroenterology//NONSGML Events//EN
CALSCALE:GREGORIAN
X-ORIGINAL-URL:https://gastro.wustl.edu/events/
X-WR-CALDESC:Division of Gastroenterology - Events
BEGIN:VEVENT
UID:20250124T1745Z-1737740715.3632-EO-11044-1@10.73.10.131
STATUS:CONFIRMED
DTSTAMP:20260420T053913Z
CREATED:20250124T174343Z
LAST-MODIFIED:20250124T174350Z
DTSTART;TZID=America/Chicago:20250128T070000
DTEND;TZID=America/Chicago:20250128T080000
SUMMARY: Division Rounds
DESCRIPTION: Edward Hurtte\, MD Janki Luther\, MD\, MPH   Please Contact Be
 th Buschard-Steiger (bbuscha@wustl.edu) for Zoom Details
X-ALT-DESC;FMTTYPE=text/html: <p style="text-align: center\;">Edward Hurtte
 \, MD</p><p style="text-align: center\;">Janki Luther\, MD\, MPH</p><p> </p
 ><p style="text-align: center\;">Please Contact Beth Buschard-Steiger (<a h
 ref="mailto:bbuscha@wustl.edu">bbuscha@wustl.edu</a>) for Zoom Details</p>
CATEGORIES:GI Division Rounds
LOCATION:Zoom
GEO:38.635144;-90.262929
ORGANIZER;CN="Leslie":MAILTO:larnold@wustl.edu
URL;VALUE=URI:https://gastro.wustl.edu/events/event/division-rounds-53/
END:VEVENT
BEGIN:VTIMEZONE
TZID:America/Chicago
BEGIN:STANDARD
TZOFFSETFROM:-0500
TZOFFSETTO:-0600
DTSTART:20241103T070000
TZNAME:CST
END:STANDARD
END:VTIMEZONE
END:VCALENDAR
