BEGIN:VCALENDAR
VERSION:2.0
PRODID:-//Division of Gastroenterology//NONSGML Events//EN
CALSCALE:GREGORIAN
X-ORIGINAL-URL:https://gastro.wustl.edu/events/
X-WR-CALDESC:Division of Gastroenterology - Events
BEGIN:VEVENT
UID:20250107T1738Z-1736271492.6783-EO-11010-1@10.73.10.131
STATUS:CONFIRMED
DTSTAMP:20260423T112352Z
CREATED:20250107T173422Z
LAST-MODIFIED:20250107T173429Z
DTSTART;TZID=America/Chicago:20250108T160000
DTEND;TZID=America/Chicago:20250108T170000
SUMMARY: Division Rounds
DESCRIPTION: GI Lumps and Bumps Michelle Baliss\, DO Advanced Endoscopy Fel
 low & Benign liver lesions Megan White\, MD Transplant Hepatology Fellow   
 Please Contact Beth Buschard-Steiger (bbuscha@wustl.edu) for Zoom Details
X-ALT-DESC;FMTTYPE=text/html: <h4 style="text-align: center\;">GI Lumps and
  Bumps</h4><h5 style="text-align: center\;">Michelle Baliss\, DO</h5><h5 st
 yle="text-align: center\;">Advanced Endoscopy Fellow</h5><h5 style="text-al
 ign: center\;">&</h5><h4 style="text-align: center\;">Benign liver lesions<
 /h4><h5 style="text-align: center\;">Megan White\, MD</h5><h5 style="text-a
 lign: center\;">Transplant Hepatology Fellow</h5><p> </p><p style="text-ali
 gn: center\;">Please Contact Beth Buschard-Steiger (<a href="mailto:bbuscha
 @wustl.edu">bbuscha@wustl.edu</a>) for Zoom Details</p>
CATEGORIES:GI Division Rounds
ORGANIZER;CN="Leslie":MAILTO:larnold@wustl.edu
URL;VALUE=URI:https://gastro.wustl.edu/events/event/division-rounds-51/
END:VEVENT
BEGIN:VTIMEZONE
TZID:America/Chicago
BEGIN:STANDARD
TZOFFSETFROM:-0500
TZOFFSETTO:-0600
DTSTART:20241103T070000
TZNAME:CST
END:STANDARD
END:VTIMEZONE
END:VCALENDAR
