BEGIN:VCALENDAR
VERSION:2.0
PRODID:-//Division of Gastroenterology//NONSGML Events//EN
CALSCALE:GREGORIAN
X-ORIGINAL-URL:https://gastro.wustl.edu/events/
X-WR-CALDESC:Division of Gastroenterology - Events
BEGIN:VEVENT
UID:20241209T1732Z-1733765527.3081-EO-10954-1@10.24.106.144
STATUS:CONFIRMED
DTSTAMP:20260423T132356Z
CREATED:20241209T172836Z
LAST-MODIFIED:20241209T172836Z
DTSTART;TZID=America/Chicago:20241211T170000
DTEND;TZID=America/Chicago:20241211T180000
SUMMARY: Division Rounds
DESCRIPTION: Management of Pouchitis and Inflammatory Pouch Disorders Jalpa
  Devi\, MBBS\, FCPS & Obesity and IBD Christina Kratschmer\, MD\, PhD   Ple
 ase Contact Beth Buschard-Steiger (bbuscha@wustl.edu) for Zoom Details
X-ALT-DESC;FMTTYPE=text/html: <p style="text-align: center\;"><em>Managemen
 t of Pouchitis and Inflammatory Pouch Disorders</em></p><p style="text-alig
 n: center\;">Jalpa Devi\, MBBS\, FCPS</p><p style="text-align: center\;">&<
 /p><p style="text-align: center\;"><em>Obesity and IBD</em></p><p style="te
 xt-align: center\;">Christina Kratschmer\, MD\, PhD</p><p> </p><p style="te
 xt-align: center\;"><p style="text-align: center\;">Please Contact Beth Bus
 chard-Steiger (<a href="mailto:bbuscha@wustl.edu">bbuscha@wustl.edu</a>) fo
 r Zoom Details</p>
CATEGORIES:GI Division Rounds
LOCATION:Zoom
GEO:38.635144;-90.262929
ORGANIZER;CN="Leslie":MAILTO:larnold@wustl.edu
URL;VALUE=URI:https://gastro.wustl.edu/events/event/division-rounds-50/
END:VEVENT
BEGIN:VTIMEZONE
TZID:America/Chicago
BEGIN:STANDARD
TZOFFSETFROM:-0500
TZOFFSETTO:-0600
DTSTART:20241103T070000
TZNAME:CST
END:STANDARD
END:VTIMEZONE
END:VCALENDAR
