BEGIN:VCALENDAR
VERSION:2.0
PRODID:-//Division of Gastroenterology//NONSGML Events//EN
CALSCALE:GREGORIAN
X-ORIGINAL-URL:https://gastro.wustl.edu/events/
X-WR-CALDESC:Division of Gastroenterology - Events
BEGIN:VEVENT
UID:20241101T1544Z-1730475872.0855-EO-10890-1@10.24.106.144
STATUS:CONFIRMED
DTSTAMP:20260424T001247Z
CREATED:20241101T154004Z
LAST-MODIFIED:20241101T154004Z
DTSTART;TZID=America/Chicago:20241106T170000
DTEND;TZID=America/Chicago:20241106T180000
SUMMARY: Division Rounds
DESCRIPTION: IBD and Pregnancy Siri Ancha\, MD & Immune Checkpoint Inhibito
 r Pancreatitis Kevin Garza\, MD   Please Contact Beth Buschard-Steiger (bbu
 scha@wustl.edu) for Zoom Details  
X-ALT-DESC;FMTTYPE=text/html: <h4 style="text-align: center\;">IBD and Preg
 nancy</h4><h4 style="text-align: center\;">Siri Ancha\, MD</h4><h4 style="t
 ext-align: center\;">&</h4><h4 style="text-align: center\;">Immune Checkpoi
 nt Inhibitor Pancreatitis</h4><h4 style="text-align: center\;">Kevin Garza\
 , MD</h4><p style="text-align: center\;"><p> </p><p style="text-align: cent
 er\;">Please Contact Beth Buschard-Steiger (<a href="mailto:bbuscha@wustl.e
 du">bbuscha@wustl.edu</a>) for Zoom Details</p><div class="map"><div id="eo
 _venue_map-2" class="eo-venue-map googlemap"><div></div></div></div><p> </p
 >
CATEGORIES:GI Division Rounds
LOCATION:Zoom
GEO:38.635144;-90.262929
ORGANIZER;CN="Leslie":MAILTO:larnold@wustl.edu
URL;VALUE=URI:https://gastro.wustl.edu/events/event/division-rounds-48/
END:VEVENT
BEGIN:VTIMEZONE
TZID:America/Chicago
BEGIN:STANDARD
TZOFFSETFROM:-0500
TZOFFSETTO:-0600
DTSTART:20241103T070000
TZNAME:CST
END:STANDARD
END:VTIMEZONE
END:VCALENDAR
