BEGIN:VCALENDAR
VERSION:2.0
PRODID:-//Division of Gastroenterology//NONSGML Events//EN
CALSCALE:GREGORIAN
X-ORIGINAL-URL:https://gastro.wustl.edu/events/
X-WR-CALDESC:Division of Gastroenterology - Events
BEGIN:VEVENT
UID:20241018T1447Z-1729262856.9779-EO-10864-1@10.24.106.144
STATUS:CONFIRMED
DTSTAMP:20260421T133528Z
CREATED:20241018T143730Z
LAST-MODIFIED:20241018T143738Z
DTSTART;TZID=America/Chicago:20241023T170000
DTEND;TZID=America/Chicago:20241023T180000
SUMMARY: Division Rounds
DESCRIPTION: EoE Sandeep Tripathy\, MD\, PhD Associate Professor of Medicin
 e   Please Contact Beth Buschard-Steiger (bbuscha@wustl.edu) for Zoom Detai
 ls  
X-ALT-DESC;FMTTYPE=text/html: <h3 style="text-align: center\;">EoE</h3><h5 
 style="text-align: center\;">Sandeep Tripathy\, MD\, PhD<br />Associate Pro
 fessor of Medicine</h5><p> </p><p style="text-align: center\;">Please Conta
 ct Beth Buschard-Steiger (<a href="mailto:bbuscha@wustl.edu">bbuscha@wustl.
 edu</a>) for Zoom Details</p><p> </p>
CATEGORIES:GI Division Rounds
LOCATION:Zoom
GEO:38.635144;-90.262929
ORGANIZER;CN="Leslie":MAILTO:larnold@wustl.edu
URL;VALUE=URI:https://gastro.wustl.edu/events/event/division-rounds-47/
END:VEVENT
BEGIN:VTIMEZONE
TZID:America/Chicago
BEGIN:DAYLIGHT
TZOFFSETFROM:-0600
TZOFFSETTO:-0500
DTSTART:20240310T080000
TZNAME:CDT
END:DAYLIGHT
END:VTIMEZONE
END:VCALENDAR
