BEGIN:VCALENDAR
VERSION:2.0
PRODID:-//Division of Gastroenterology//NONSGML Events//EN
CALSCALE:GREGORIAN
X-ORIGINAL-URL:https://gastro.wustl.edu/events/
X-WR-CALDESC:Division of Gastroenterology - Events
BEGIN:VEVENT
UID:20240916T1350Z-1726494613.2269-EO-10812-1@10.24.106.144
STATUS:CONFIRMED
DTSTAMP:20260422T154119Z
CREATED:20240916T133833Z
LAST-MODIFIED:20240916T133833Z
DTSTART;TZID=America/Chicago:20240918T160000
DTEND;TZID=America/Chicago:20240918T170000
SUMMARY: Division Rounds
DESCRIPTION: Pancreatic Cancer Screening Quazim Alayo\, MD\, MMSc & TBD Sar
 ah Alharfi\, MD Please Contact Beth Buschard-Steiger (bbuscha@wustl.edu) fo
 r Zoom Details
X-ALT-DESC;FMTTYPE=text/html: <h5 style="text-align: center\;"><em>Pancreat
 ic Cancer Screening </em></h5><p style="text-align: center\;">Quazim Alayo\
 , MD\, MMSc</p><p style="text-align: center\;">&</p><h5 style="text-align: 
 center\;"><em>TBD</em></h5><p style="text-align: center\;">Sarah Alharfi\, 
 MD</p><p style="text-align: center\;"><p style="text-align: center\;">Pleas
 e Contact Beth Buschard-Steiger (<a href="mailto:bbuscha@wustl.edu">bbuscha
 @wustl.edu</a>) for Zoom Details</p>
CATEGORIES:GI Division Rounds
LOCATION:Zoom
GEO:38.635144;-90.262929
ORGANIZER;CN="Leslie":MAILTO:larnold@wustl.edu
URL;VALUE=URI:https://gastro.wustl.edu/events/event/division-rounds-45/
END:VEVENT
BEGIN:VTIMEZONE
TZID:America/Chicago
BEGIN:DAYLIGHT
TZOFFSETFROM:-0600
TZOFFSETTO:-0500
DTSTART:20240310T080000
TZNAME:CDT
END:DAYLIGHT
END:VTIMEZONE
END:VCALENDAR
