BEGIN:VCALENDAR
VERSION:2.0
PRODID:-//Division of Gastroenterology//NONSGML Events//EN
CALSCALE:GREGORIAN
X-ORIGINAL-URL:https://gastro.wustl.edu/events/
X-WR-CALDESC:Division of Gastroenterology - Events
BEGIN:VEVENT
UID:20181008T2109Z-1539032982.215-EO-4593-1@172.20.65.30
STATUS:CONFIRMED
DTSTAMP:20260424T161328Z
CREATED:20181008T205741Z
LAST-MODIFIED:20181214T182401Z
DTSTART;TZID=America/Chicago:20181218T070000
DTEND;TZID=America/Chicago:20181218T080000
SUMMARY: Core Conference: Vladimir Kushnir\, MD
DESCRIPTION: “Congenital Pancreatic and Biliary Abnormalities“ Speaker: Vla
 dimir Kushnir\, MD Associate Professor of Medicine
X-ALT-DESC;FMTTYPE=text/html: <h2 style="text-align: center\;">"<em>Congeni
 tal Pancreatic and Biliary Abnormalities</em>"</h2><h2 style="text-align: c
 enter\;">Speaker: Vladimir Kushnir\, MD</h2><h4 style="text-align: center\;
 ">Associate Professor of Medicine</h4>
CATEGORIES:Core Conference
LOCATION:Clouse Conference Room
GEO:38.621247;-90.252616
ORGANIZER;CN="Scott":MAILTO:bosso.scott@wustl.edu
URL;VALUE=URI:https://gastro.wustl.edu/events/event/core-conference-vladimi
 r-kushnir-md/
END:VEVENT
BEGIN:VTIMEZONE
TZID:America/Chicago
BEGIN:STANDARD
TZOFFSETFROM:-0500
TZOFFSETTO:-0600
DTSTART:20181104T070000
TZNAME:CST
END:STANDARD
END:VTIMEZONE
END:VCALENDAR
