BEGIN:VCALENDAR
VERSION:2.0
PRODID:-//Division of Gastroenterology//NONSGML Events//EN
CALSCALE:GREGORIAN
X-ORIGINAL-URL:https://gastro.wustl.edu/events/
X-WR-CALDESC:Division of Gastroenterology - Events
BEGIN:VEVENT
UID:20191024T1901Z-1571943679.1256-EO-5734-1@172.23.128.18
STATUS:CONFIRMED
DTSTAMP:20260422T152424Z
CREATED:20191024T185941Z
LAST-MODIFIED:20191105T154001Z
DTSTART;TZID=America/Chicago:20191105T073000
DTEND;TZID=America/Chicago:20191105T083000
SUMMARY: Journal Club: Farhan Quader\, MD and Aymen AlMuhaidb\, MD
DESCRIPTION: Quader: “Pyloric Distensibility Measurement Predicts Symptomat
 ic Response to Intrapyloric Botulinum Toxin Injection” AlMuhaidb: “High Def
 inition Chromoendoscopy Versus High Definition White Light Colonoscopy for 
 Neoplasia Surveillance in Ulcerative colitis: A Randomized Controlled Trial
 “ Speaker: Farhan Quader\, MD and Aymen AlMuhaidb\, MD GI Fellows
X-ALT-DESC;FMTTYPE=text/html: <h2 style="text-align: center\;">Quader: "<em
 >Pyloric Distensibility Measurement Predicts Symptomatic Response to Intrap
 yloric Botulinum Toxin Injection</em>"<br />AlMuhaidb: "<em>High Definition
  Chromoendoscopy Versus High Definition White Light Colonoscopy for Neoplas
 ia Surveillance in Ulcerative colitis: A Randomized Controlled Trial</em>"<
 /h2><h2 style="text-align: center\;">Speaker: Farhan Quader\, MD and Aymen 
 AlMuhaidb\, MD</h2><h4 style="text-align: center\;">GI Fellows</h4>
CATEGORIES:Journal Club
LOCATION:Clouse Conference Room
GEO:38.621247;-90.252616
ORGANIZER;CN="Scott":MAILTO:bosso.scott@wustl.edu
URL;VALUE=URI:https://gastro.wustl.edu/events/event/core-conference-stephen
 -hasak-md/
END:VEVENT
BEGIN:VTIMEZONE
TZID:America/Chicago
BEGIN:STANDARD
TZOFFSETFROM:-0500
TZOFFSETTO:-0600
DTSTART:20191103T070000
TZNAME:CST
END:STANDARD
END:VTIMEZONE
END:VCALENDAR
