BEGIN:VCALENDAR
VERSION:2.0
PRODID:-//Division of Gastroenterology//NONSGML Events//EN
CALSCALE:GREGORIAN
X-ORIGINAL-URL:https://gastro.wustl.edu/events/
X-WR-CALDESC:Division of Gastroenterology - Events
BEGIN:VEVENT
UID:20200313T1534Z-1584113679.5801-EO-5996-1@172.23.128.18
STATUS:CONFIRMED
DTSTAMP:20260419T201620Z
CREATED:20200313T152618Z
LAST-MODIFIED:20200313T152618Z
DTSTART;TZID=America/Chicago:20200331T073000
DTEND;TZID=America/Chicago:20200331T083000
SUMMARY: Core Conference: Stephen Hasak\, MD
DESCRIPTION: “Management of Difficult Esophageal Strictures“ Speaker: Steph
 en Hasak\, MD Advanced Endoscopy Fellow
X-ALT-DESC;FMTTYPE=text/html: <h2 style="text-align: center\;">"<em><strong
 >Management of Difficult Esophageal Strictures</strong></em>"</h2><h2 style
 ="text-align: center\;">Speaker: Stephen Hasak\, MD</h2><h4 style="text-ali
 gn: center\;">Advanced Endoscopy Fellow</h4>
CATEGORIES:Core Conference
LOCATION:Clouse Conference Room
GEO:38.621247;-90.252616
ORGANIZER;CN="Scott":MAILTO:bosso.scott@wustl.edu
URL;VALUE=URI:https://gastro.wustl.edu/events/event/core-conference-stephen
 -hasak-md-2/
END:VEVENT
BEGIN:VTIMEZONE
TZID:America/Chicago
BEGIN:DAYLIGHT
TZOFFSETFROM:-0600
TZOFFSETTO:-0500
DTSTART:20200308T080000
TZNAME:CDT
END:DAYLIGHT
END:VTIMEZONE
END:VCALENDAR
