BEGIN:VCALENDAR
VERSION:2.0
PRODID:-//Division of Gastroenterology//NONSGML Events//EN
CALSCALE:GREGORIAN
X-ORIGINAL-URL:https://gastro.wustl.edu/events/
X-WR-CALDESC:Division of Gastroenterology - Events
BEGIN:VEVENT
UID:20200124T2049Z-1579898989.3386-EO-5884-1@172.23.128.18
STATUS:CONFIRMED
DTSTAMP:20260422T112547Z
CREATED:20200124T204923Z
LAST-MODIFIED:20200124T204923Z
DTSTART;TZID=America/Chicago:20200211T150000
DTEND;TZID=America/Chicago:20200211T160000
SUMMARY: Core Conference: Scott McHenry\, MD
DESCRIPTION: “NAFLD“ Speaker: Scott McHenry\, MD Advanced Hepatology Fellow
X-ALT-DESC;FMTTYPE=text/html: <h2 style="text-align: center\;">"<em>NAFLD</
 em>"</h2><h2 style="text-align: center\;">Speaker: Scott McHenry\, MD</h2><
 h4 style="text-align: center\;">Advanced Hepatology Fellow</h4>
CATEGORIES:Core Conference
LOCATION:Clouse Conference Room
GEO:38.621247;-90.252616
ORGANIZER;CN="Scott":MAILTO:bosso.scott@wustl.edu
URL;VALUE=URI:https://gastro.wustl.edu/events/event/core-conference-scott-m
 chenry-md/
END:VEVENT
BEGIN:VTIMEZONE
TZID:America/Chicago
BEGIN:STANDARD
TZOFFSETFROM:-0500
TZOFFSETTO:-0600
DTSTART:20191103T070000
TZNAME:CST
END:STANDARD
END:VTIMEZONE
END:VCALENDAR
