BEGIN:VCALENDAR
VERSION:2.0
PRODID:-//Division of Gastroenterology//NONSGML Events//EN
CALSCALE:GREGORIAN
X-ORIGINAL-URL:https://gastro.wustl.edu/events/
X-WR-CALDESC:Division of Gastroenterology - Events
BEGIN:VEVENT
UID:20210430T1656Z-1619801772.1918-EO-6766-1@172.23.128.18
STATUS:CONFIRMED
DTSTAMP:20260423T142447Z
CREATED:20210430T165309Z
LAST-MODIFIED:20210430T165309Z
DTSTART;TZID=America/Chicago:20210504T070000
DTEND;TZID=America/Chicago:20210504T080000
SUMMARY: Core Conference: Scott McHenry\, MD
DESCRIPTION: “NAFLD“ Speaker: Scott McHenry\, MD Assistant Professor of Med
 icine Please Contact Beth Buschard-Steiger for Zoom Details
X-ALT-DESC;FMTTYPE=text/html: <h2 style="text-align: center\;">"<em>NAFLD</
 em>"</h2><h2 style="text-align: center\;">Speaker: Scott McHenry\, MD</h2><
 h4 style="text-align: center\;">Assistant Professor of Medicine</h4><h4 sty
 le="text-align: center\;">Please Contact Beth Buschard-Steiger for Zoom Det
 ails</h4>
CATEGORIES:Core Conference
LOCATION:Zoom
GEO:38.635144;-90.262929
ORGANIZER;CN="Scott":MAILTO:bosso.scott@wustl.edu
URL;VALUE=URI:https://gastro.wustl.edu/events/event/core-conference-scott-m
 chenry-md-2/
END:VEVENT
BEGIN:VTIMEZONE
TZID:America/Chicago
BEGIN:DAYLIGHT
TZOFFSETFROM:-0600
TZOFFSETTO:-0500
DTSTART:20210314T080000
TZNAME:CDT
END:DAYLIGHT
END:VTIMEZONE
END:VCALENDAR
