BEGIN:VCALENDAR
VERSION:2.0
PRODID:-//Division of Gastroenterology//NONSGML Events//EN
CALSCALE:GREGORIAN
X-ORIGINAL-URL:https://gastro.wustl.edu/events/
X-WR-CALDESC:Division of Gastroenterology - Events
BEGIN:VEVENT
UID:20200904T2128Z-1599254925.7099-EO-6203-1@172.23.128.18
STATUS:CONFIRMED
DTSTAMP:20260425T140230Z
CREATED:20200904T210853Z
LAST-MODIFIED:20201103T203935Z
DTSTART;TZID=America/Chicago:20200908T070000
DTEND;TZID=America/Chicago:20200908T080000
SUMMARY: Core Conference: Osama Altayar\, MD
DESCRIPTION: “Meta-Analysis“ Speaker: Osama Altayar\, MD Instructor in Medi
 cine Please Contact Beth Buschard-Steiger for Zoom Details
X-ALT-DESC;FMTTYPE=text/html: <h2 style="text-align: center\;">"<em>Meta-An
 alysis</em>"</h2><h2 style="text-align: center\;">Speaker: Osama Altayar\, 
 MD</h2><h4 style="text-align: center\;">Instructor in Medicine</h4><h4 styl
 e="text-align: center\;">Please Contact Beth Buschard-Steiger for Zoom Deta
 ils</h4>
CATEGORIES:Core Conference
LOCATION:Zoom
GEO:38.635144;-90.262929
ORGANIZER;CN="Scott":MAILTO:bosso.scott@wustl.edu
URL;VALUE=URI:https://gastro.wustl.edu/events/event/core-conference-osama-a
 ltayar-md/
END:VEVENT
BEGIN:VTIMEZONE
TZID:America/Chicago
BEGIN:DAYLIGHT
TZOFFSETFROM:-0600
TZOFFSETTO:-0500
DTSTART:20200308T080000
TZNAME:CDT
END:DAYLIGHT
END:VTIMEZONE
END:VCALENDAR
