BEGIN:VCALENDAR
VERSION:2.0
PRODID:-//Division of Gastroenterology//NONSGML Events//EN
CALSCALE:GREGORIAN
X-ORIGINAL-URL:https://gastro.wustl.edu/events/
X-WR-CALDESC:Division of Gastroenterology - Events
BEGIN:VEVENT
UID:20201218T1557Z-1608307072.8668-EO-6464-1@172.23.128.18
STATUS:CONFIRMED
DTSTAMP:20260420T005128Z
CREATED:20201218T155044Z
LAST-MODIFIED:20201218T155044Z
DTSTART;TZID=America/Chicago:20210105T070000
DTEND;TZID=America/Chicago:20210105T080000
SUMMARY: Core Conference: Michael Weaver\, MD
DESCRIPTION: “Presentation and Management of Acute Upper GI Bleeding“ Speak
 er: Michael Weaver\, MD Advanced Endoscopy Fellow Please Contact Beth Busch
 ard-Steiger for Zoom Details
X-ALT-DESC;FMTTYPE=text/html: <h2 style="text-align: center\;">"<em>Present
 ation and Management of Acute Upper GI Bleeding</em>"</h2><h2 style="text-a
 lign: center\;">Speaker: Michael Weaver\, MD</h2><h4 style="text-align: cen
 ter\;">Advanced Endoscopy Fellow</h4><h4 style="text-align: center\;">Pleas
 e Contact Beth Buschard-Steiger for Zoom Details</h4>
CATEGORIES:Core Conference
LOCATION:Zoom
GEO:38.635144;-90.262929
ORGANIZER;CN="Scott":MAILTO:bosso.scott@wustl.edu
URL;VALUE=URI:https://gastro.wustl.edu/events/event/core-conference-michael
 -weaver-md/
END:VEVENT
BEGIN:VTIMEZONE
TZID:America/Chicago
BEGIN:STANDARD
TZOFFSETFROM:-0500
TZOFFSETTO:-0600
DTSTART:20201101T070000
TZNAME:CST
END:STANDARD
END:VTIMEZONE
END:VCALENDAR
