BEGIN:VCALENDAR
VERSION:2.0
PRODID:-//Division of Gastroenterology//NONSGML Events//EN
CALSCALE:GREGORIAN
X-ORIGINAL-URL:https://gastro.wustl.edu/events/
X-WR-CALDESC:Division of Gastroenterology - Events
BEGIN:VEVENT
UID:20190517T2148Z-1558129700.564-EO-5334-1@172.23.128.19
STATUS:CONFIRMED
DTSTAMP:20260420T024612Z
CREATED:20190517T212912Z
LAST-MODIFIED:20190517T212912Z
DTSTART;TZID=America/Chicago:20190528T073000
DTEND;TZID=America/Chicago:20190528T083000
SUMMARY: Core Conference: Michael C. Bennett\, MD
DESCRIPTION: “Obesity Management“ Speaker: Michael C. Bennett\, MD Assistan
 t Professor of Medicine
X-ALT-DESC;FMTTYPE=text/html: <h2 style="text-align: center\;">"<em>Obesity
  Management</em>"</h2><h2 style="text-align: center\;">Speaker: Michael C. 
 Bennett\, MD</h2><h4 style="text-align: center\;">Assistant Professor of Me
 dicine</h4>
CATEGORIES:Core Conference
LOCATION:Clouse Conference Room
GEO:38.621247;-90.252616
ORGANIZER;CN="Scott":MAILTO:bosso.scott@wustl.edu
URL;VALUE=URI:https://gastro.wustl.edu/events/event/core-conference-michael
 -c-bennett-md/
END:VEVENT
BEGIN:VTIMEZONE
TZID:America/Chicago
BEGIN:DAYLIGHT
TZOFFSETFROM:-0600
TZOFFSETTO:-0500
DTSTART:20190310T080000
TZNAME:CDT
END:DAYLIGHT
END:VTIMEZONE
END:VCALENDAR
