BEGIN:VCALENDAR
VERSION:2.0
PRODID:-//Division of Gastroenterology//NONSGML Events//EN
CALSCALE:GREGORIAN
X-ORIGINAL-URL:https://gastro.wustl.edu/events/
X-WR-CALDESC:Division of Gastroenterology - Events
BEGIN:VEVENT
UID:20200213T1722Z-1581614556.2533-EO-5942-1@172.23.128.18
STATUS:CONFIRMED
DTSTAMP:20260420T203234Z
CREATED:20200213T171833Z
LAST-MODIFIED:20200224T182020Z
DTSTART;TZID=America/Chicago:20200225T071500
DTEND;TZID=America/Chicago:20200225T081500
SUMMARY: Core Conference: Michael C. Bennett\, MD
DESCRIPTION: “Obesity Management“ Speaker: Michael C. Bennett\, MD Assistan
 t Professor of Medicine
X-ALT-DESC;FMTTYPE=text/html: <h2 style="text-align: center\;">"<em>Obesity
  Management</em>"</h2><h2 style="text-align: center\;">Speaker: Michael C. 
 Bennett\, MD</h2><h4 style="text-align: center\;">Assistant Professor of Me
 dicine</h4>
CATEGORIES:Core Conference
LOCATION:Clouse Conference Room
GEO:38.621247;-90.252616
ORGANIZER;CN="Scott":MAILTO:bosso.scott@wustl.edu
URL;VALUE=URI:https://gastro.wustl.edu/events/event/core-conference-michael
 -c-bennett-md-2/
END:VEVENT
BEGIN:VTIMEZONE
TZID:America/Chicago
BEGIN:STANDARD
TZOFFSETFROM:-0500
TZOFFSETTO:-0600
DTSTART:20191103T070000
TZNAME:CST
END:STANDARD
END:VTIMEZONE
END:VCALENDAR
