BEGIN:VCALENDAR
VERSION:2.0
PRODID:-//Division of Gastroenterology//NONSGML Events//EN
CALSCALE:GREGORIAN
X-ORIGINAL-URL:https://gastro.wustl.edu/events/
X-WR-CALDESC:Division of Gastroenterology - Events
BEGIN:VEVENT
UID:20181008T2037Z-1539031063.4815-EO-4572-1@172.20.65.30
STATUS:CONFIRMED
DTSTAMP:20260425T105229Z
CREATED:20181008T203546Z
LAST-MODIFIED:20181018T191445Z
DTSTART;TZID=America/Chicago:20181023T070000
DTEND;TZID=America/Chicago:20181023T080000
SUMMARY: Core Conference: Koushik Das\, MD
DESCRIPTION: “Endoscopic Management of Malignant Esophageal\, Duodenal\, an
 d Colonic Obstruction“ Speaker: Koushik Das\, MD Assistant Professor of Med
 icine
X-ALT-DESC;FMTTYPE=text/html: <h2 style="text-align: center\;">"<em>Endosco
 pic Management of Malignant Esophageal\, Duodenal\, and Colonic Obstruction
 </em>"</h2><h2 style="text-align: center\;">Speaker: Koushik Das\, MD</h2><
 h4 style="text-align: center\;">Assistant Professor of Medicine</h4>
CATEGORIES:Core Conference
LOCATION:Clouse Conference Room
GEO:38.621247;-90.252616
ORGANIZER;CN="Scott":MAILTO:bosso.scott@wustl.edu
URL;VALUE=URI:https://gastro.wustl.edu/events/event/core-conference-koushik
 -das-md/
END:VEVENT
BEGIN:VTIMEZONE
TZID:America/Chicago
BEGIN:DAYLIGHT
TZOFFSETFROM:-0600
TZOFFSETTO:-0500
DTSTART:20180311T080000
TZNAME:CDT
END:DAYLIGHT
END:VTIMEZONE
END:VCALENDAR
