BEGIN:VCALENDAR
VERSION:2.0
PRODID:-//Division of Gastroenterology//NONSGML Events//EN
CALSCALE:GREGORIAN
X-ORIGINAL-URL:https://gastro.wustl.edu/events/
X-WR-CALDESC:Division of Gastroenterology - Events
BEGIN:VEVENT
UID:20181010T1703Z-1539190997.9967-EO-4758-1@172.20.65.30
STATUS:CONFIRMED
DTSTAMP:20260424T075434Z
CREATED:20181010T165706Z
LAST-MODIFIED:20181228T200040Z
DTSTART;TZID=America/Chicago:20190115T070000
DTEND;TZID=America/Chicago:20190115T080000
SUMMARY: Core Conference: Gabriel Lang\, MD
DESCRIPTION: “Endoscopy In Pancreas Disease“ Speaker: Gabriel Lang\, MD Ass
 istant Professor of Medicine
X-ALT-DESC;FMTTYPE=text/html: <h2 style="text-align: center\;">"<em>Endosco
 py In Pancreas Disease</em>"</h2><h2 style="text-align: center\;">Speaker: 
 Gabriel Lang\, MD</h2><h4 style="text-align: center\;">Assistant Professor 
 of Medicine</h4>
CATEGORIES:Core Conference
LOCATION:Clouse Conference Room
GEO:38.621247;-90.252616
ORGANIZER;CN="Scott":MAILTO:bosso.scott@wustl.edu
URL;VALUE=URI:https://gastro.wustl.edu/events/event/core-conference-gabriel
 -lang-md/
END:VEVENT
BEGIN:VTIMEZONE
TZID:America/Chicago
BEGIN:STANDARD
TZOFFSETFROM:-0500
TZOFFSETTO:-0600
DTSTART:20181104T070000
TZNAME:CST
END:STANDARD
END:VTIMEZONE
END:VCALENDAR
