BEGIN:VCALENDAR
VERSION:2.0
PRODID:-//Division of Gastroenterology//NONSGML Events//EN
CALSCALE:GREGORIAN
X-ORIGINAL-URL:https://gastro.wustl.edu/events/
X-WR-CALDESC:Division of Gastroenterology - Events
BEGIN:VEVENT
UID:20250325T1632Z-1742920372.6306-EO-11143-1@10.73.10.131
STATUS:CONFIRMED
DTSTAMP:20260417T225951Z
CREATED:20250325T162604Z
LAST-MODIFIED:20250331T161817Z
DTSTART;TZID=America/Chicago:20250402T070000
DTEND;TZID=America/Chicago:20250402T080000
SUMMARY: Core Conference
DESCRIPTION: “Endoscopic Emergencies”   Vladimir Kushnir\, MD Professor of 
 Medicine Director\, Endoscopic Research Director\, Bariatric Endoscopy Dire
 ctor\, Interventional Endoscopy   Please Contact Beth Buschard-Steiger (bbu
 scha@wustl.edu) for Zoom Details  
X-ALT-DESC;FMTTYPE=text/html: <h4 style="text-align: center\;"><em>"Endosco
 pic Emergencies"</em></h4><p> </p><p style="text-align: center\;">Vladimir 
 Kushnir\, MD</p><p style="text-align: center\;">Professor of Medicine</p><p
  style="text-align: center\;">Director\, Endoscopic Research</p><p style="t
 ext-align: center\;">Director\, Bariatric Endoscopy</p><p style="text-align
 : center\;">Director\, Interventional Endoscopy</p><p> </p><p style="text-a
 lign: center\;">Please Contact Beth Buschard-Steiger (<a href="mailto:bbusc
 ha@wustl.edu">bbuscha@wustl.edu</a>) for Zoom Details</p><p> </p>
CATEGORIES:Core Conference
LOCATION:Zoom
GEO:38.635144;-90.262929
ORGANIZER;CN="Leslie":MAILTO:larnold@wustl.edu
URL;VALUE=URI:https://gastro.wustl.edu/events/event/core-conference-e/
END:VEVENT
BEGIN:VTIMEZONE
TZID:America/Chicago
BEGIN:DAYLIGHT
TZOFFSETFROM:-0600
TZOFFSETTO:-0500
DTSTART:20250309T080000
TZNAME:CDT
END:DAYLIGHT
END:VTIMEZONE
END:VCALENDAR
